BEGIN:VCALENDAR
VERSION:2.0
PRODID:-//https://faithvictoria.org.au///NONSGML kigkonsult.se iCalcreator 2.10.15//
METHOD:PUBLISH
BEGIN:VEVENT
UID:20260422T223306UTC-4676IsKwXM@https://faithvictoria.org.au/
DTSTAMP:20260422T223306Z
DESCRIPTION:Great LentBegins on Monday 3 March 2025Ends on Friday 18 April 
 2025Orthodox Christianity\nGreat Lent is the period of 40 days which comes
  before Easter\, traditionally a time of fasting and reflection. The 40 da
 ys represents the time Jesus spent in the desert overcoming temptation by 
 Satan. In the Orthodox Church\, Great Lent starts on Clean Monday and ends
  on the Friday before Lazarus Saturday and Palm Sunday. https://faithvicto
 ria.org.au/upcoming-events/event/2193-great-lent-orthodox-christianity
DTSTART:20250303T165912Z
DTEND:20250418T165912Z
LOCATION:RSEvents!Pro Location (Colorado\, USA)
SUMMARY:Great Lent | Orthodox Christianity 
URL:https://faithvictoria.org.au/upcoming-events/event/2193-great-lent-orth
 odox-christianity
END:VEVENT
BEGIN:VEVENT
UID:20260422T223306UTC-4684wfwMuz@https://faithvictoria.org.au/
DTSTAMP:20260422T223306Z
DESCRIPTION:Lent begins on Ash Wednesday Begins on: Wednesday 5 March 2025E
 nds on: Thursday 17 April 2025Christianity\nLent is the period of 40 days 
 (not including Sundays) which comes before Easter\, traditionally a time o
 f fasting and reflection. The 40 days represents the time Jesus spent in t
 he desert overcoming temptation by Satan. In Western Christianity\, it beg
 ins on Ash Wednesday and ends on Maundy Thursday. https://faithvictoria.or
 g.au/upcoming-events/event/2195-lent-begins-christianity
DTSTART:20250305T170139Z
DTEND:20250417T170139Z
LOCATION:RSEvents!Pro Location (Colorado\, USA)
SUMMARY:Lent begins | Christianity 
URL:https://faithvictoria.org.au/upcoming-events/event/2195-lent-begins-chr
 istianity
END:VEVENT
BEGIN:VEVENT
UID:20260422T223306UTC-4689ufV6jl@https://faithvictoria.org.au/
DTSTAMP:20260422T223306Z
DESCRIPTION:Theravada New Year Begins on Sunday 13 April 2025Ends on&nbsp\;
 Tuesday 15 April 2025Faith: Buddhism\nThe Buddhist New Year depends on the
  country of origin or ethnic background of the people. In Theravadin count
 ries (i.e. Thailand\, Burma\, Sri Lanka\, Cambodia and Lao) the new year i
 s celebrated for three days from the first full moon day in April. https:/
 /faithvictoria.org.au/upcoming-events/event/2204-theravada-new-year-buddhi
 sm
DTSTART:20250413T000000Z
DTEND:20250415T212534Z
LOCATION:RSEvents!Pro Location (Colorado\, USA)
SUMMARY:Theravada New Year | Buddhism 
URL:https://faithvictoria.org.au/upcoming-events/event/2204-theravada-new-y
 ear-buddhism
END:VEVENT
BEGIN:VEVENT
UID:20260422T223306UTC-4694Gt0hbr@https://faithvictoria.org.au/
DTSTAMP:20260422T223306Z
DESCRIPTION:PesachBegins on&nbsp\;Sunday 13 April 2025Ends on&nbsp\;Sunday 
 20 April 2025Faith:&nbsp\;&nbsp\;Judaism\nAn eight-day festival for famili
 es and communities to remember the time when Hebrew slaves were led by Mos
 es out of Egypt to freedom. The festival begins with the Seder meal during
  which time the story of their deliverance is told. The first and last two
  days are holidays. Also known as Passover. https://faithvictoria.org.au/u
 pcoming-events/event/2205-pesach-judaism
DTSTART:20250413T000000Z
DTEND:20250420T235927Z
LOCATION:RSEvents!Pro Location (Colorado\, USA)
SUMMARY:Pesach | Judaism 
URL:https://faithvictoria.org.au/upcoming-events/event/2205-pesach-judaism
END:VEVENT
BEGIN:VEVENT
UID:20260422T223306UTC-4699xrU7j6@https://faithvictoria.org.au/
DTSTAMP:20260422T223306Z
DESCRIPTION:Holy Week Begins on Sunday&nbsp\;13 April 2025Ends on&nbsp\;Sat
 urday 19 April 2025Faith: Christianity\nHoly week is the last week before 
 Easter. It begins with Palm Sunday (commemoration of the triumphal entry o
 f Jesus Christ into Jerusalem) and includes Maundy Thursday (commemoration
  of the first Lord’s Supper)\, Good Friday (commemoration of the suffering
  and crucifixion of Jesus Christ) and finishes on Easter Saturday (the one
  full day that Jesus Christ's body laid in the tomb). https://faithvictori
 a.org.au/upcoming-events/event/2206-holy-week-christianity
DTSTART:20250413T000000Z
DTEND:20250419T211550Z
LOCATION:RSEvents!Pro Location (Colorado\, USA)
SUMMARY:Holy Week | Christianity 
URL:https://faithvictoria.org.au/upcoming-events/event/2206-holy-week-chris
 tianity
END:VEVENT
BEGIN:VEVENT
UID:20260422T223306UTC-4704pPLhoz@https://faithvictoria.org.au/
DTSTAMP:20260422T223306Z
DESCRIPTION:Baisakhi Monday 14 April 2025Faith: Sikhism\nBaisakhi (Vaisakhi
 ) marks the founding of the Khalsa (the Brotherhood of the Pure) in 1699 C
 E by Guru Gobind Singh. The Khalsa is the collective body of all baptised 
 Sikhs who carry the five articles of the faith - Kesh (uncut hair)\, Kirpa
 n (ceremonial sword)\, Kara (steel bracelet)\, Kanga (comb) and Kaccha (un
 dershorts). https://faithvictoria.org.au/upcoming-events/event/2207-baisak
 hi-sikhism
DTSTART;VALUE=DATE:20250414
LOCATION:RSEvents!Pro Location (Colorado\, USA)
SUMMARY:Baisakhi | Sikhism 
URL:https://faithvictoria.org.au/upcoming-events/event/2207-baisakhi-sikhis
 m
END:VEVENT
END:VCALENDAR
