BEGIN:VCALENDAR
VERSION:2.0
PRODID:-//https://faithvictoria.org.au///NONSGML kigkonsult.se iCalcreator 2.10.15//
METHOD:PUBLISH
BEGIN:VEVENT
UID:20260424T120556UTC-0795BUhLv7@https://faithvictoria.org.au/
DTSTAMP:20260424T120556Z
DESCRIPTION:The Ballarat Interfaith Network invites you to:\nTour of Our La
 de Ta' Pinu Shrine\nDate: Saturday 14 April 2018&nbsp\; &nbsp\; &nbsp\;Tim
 e: 9:30am to 2pmBus pick-up Location: Ballarat Regional Multicultural Cent
 re\, 145 Victoria St\, Ballarat East\nProgramme: \n\nGuided tour of shrine
 s and Way of the Cross.\nViewing of the Chapel of Adoration\n\nMust be abl
 e to walk up hill. BYO lunch.\nThe communities that have a presence at the
  shrine include the Maltese\, Italian\, Filipino\,&nbsp\;Hispanic\, Sri La
 nkan\, Indian\, Portuguese\, Slovenian\, Vietnamese\, Polish and Indonesia
 n.\nCost: $5 for travel\, plus a donation of choice at the shrine\nRSVP:&n
 bsp\; Tuesday 10 April | Margaret&nbsp\; 0400 650 234 | Maureen 0418 383 8
 02 https://faithvictoria.org.au/upcoming-events/event/1345-tour-to-place-o
 f-worship-ballarat-interfaith-network
DTSTART:20180414T093000Z
DTEND:20180414T140000Z
LOCATION:Our Lady Ta' Pinu Shrive\, Bacchus Marsh (15 Flanagans Dr\, Merrim
 u VIC 3340\, Australia)
SUMMARY:Tour to Place of Worship: Ballarat Interfaith Network
URL:https://faithvictoria.org.au/upcoming-events/event/1345-tour-to-place-o
 f-worship-ballarat-interfaith-network
END:VEVENT
END:VCALENDAR
