BEGIN:VCALENDAR
VERSION:2.0
PRODID:-//https://faithvictoria.org.au///NONSGML kigkonsult.se iCalcreator 2.10.15//
METHOD:PUBLISH
BEGIN:VEVENT
UID:20260419T192131UTC-1464ptxmJh@https://faithvictoria.org.au/
DTSTAMP:20260419T192131Z
DESCRIPTION:Great LentBegins on Monday 18 March 2024Ends on Friday 26 April
  2024Orthodox Christianity\nGreat Lent is the period of 40 days which come
 s before Easter\, traditionally a time of fasting and reflection. The 40 d
 ays represents the time Jesus spent in the desert overcoming temptation by
  Satan. In the Orthodox Church\, Great Lent starts on Clean Monday and end
 s on the Friday before Lazarus Saturday and Palm Sunday. https://faithvict
 oria.org.au/upcoming-events/event/2057-great-lent-orthodox-christianity
DTSTART:20240318T165912Z
DTEND:20240426T165912Z
LOCATION:RSEvents!Pro Location (Colorado\, USA)
SUMMARY:Great Lent | Orthodox Christianity 
URL:https://faithvictoria.org.au/upcoming-events/event/2057-great-lent-orth
 odox-christianity
END:VEVENT
BEGIN:VEVENT
UID:20260419T192131UTC-1475v2cWz8@https://faithvictoria.org.au/
DTSTAMP:20260419T192131Z
DESCRIPTION:Baisakhi Saturday 13 April 2024Faith: Sikhism\nBaisakhi (Vaisak
 hi) marks the founding of the Khalsa (the Brotherhood of the Pure) in 1699
  CE by Guru Gobind Singh. The Khalsa is the collective body of all baptise
 d Sikhs who carry the five articles of the faith - Kesh (uncut hair)\, Kir
 pan (ceremonial sword)\, Kara (steel bracelet)\, Kanga (comb) and Kaccha (
 undershorts). https://faithvictoria.org.au/upcoming-events/event/2099-bais
 akhi-sikhism
DTSTART;VALUE=DATE:20240413
LOCATION:RSEvents!Pro Location (Colorado\, USA)
SUMMARY:Baisakhi | Sikhism 
URL:https://faithvictoria.org.au/upcoming-events/event/2099-baisakhi-sikhis
 m
END:VEVENT
BEGIN:VEVENT
UID:20260419T192131UTC-1483vKS8TV@https://faithvictoria.org.au/
DTSTAMP:20260419T192131Z
DESCRIPTION:Melton Interfaith Network invites you to:\nInterfaith Sports Da
 y\nDate: Saturday 13 April 2024&nbsp\; &nbsp\; &nbsp\; Time: 10am to 2pmLo
 cation: Cobblebank Stadium\,&nbsp\;Ferris Rd\,&nbsp\;Cobblebank VIC 3338&n
 bsp\;\nJoin the Melton Interfaith Network\, Western Health and Melton City
  Council for a day of free fun family activities for everyone. We will be 
 kicking off the day from 10am with a range of activities including: basket
 ball\, volleyball\, pickleball\,&nbsp\;egg and spoon race\, tug of war\, t
 hree legged race\, and more. Registration is required for basketball and v
 olleyball - your registration will be confirmed only once you've heard bac
 k from us with your starting time.\nPLEASE NOTE: Due to limited time and s
 pace available\, teams&nbsp\;allocated for basketball and volleyball&nbsp\
 ;will be held strictly to time\, if you are not in attendance at the alloc
 ated time&nbsp\;your spot will be re-allocated to someone else. Courts wil
 l be assigned based on registrations.\nSome catering will be provided on t
 he day\, you are also welcome to bring along your own food\, and we recomm
 end water as the drink of choice for this event. The event will be non-smo
 king and non-vaping\, and only friendly competition will be allowed.&nbsp\
 ;\nBook tickets by clicking here.&nbsp\; https://faithvictoria.org.au/upco
 ming-events/event/2172-interfaith-sports-day-melton-interfaith-network
DTSTART:20240413T100000Z
DTEND:20240413T140000Z
LOCATION:Cobblebank Stadium\, Stadium Drive\, Cobblebank 3338  (Stadium Dr\
 , Cobblebank VIC 3338\, Australia)
SUMMARY:Interfaith Sports Day: Melton Interfaith Network
URL:https://faithvictoria.org.au/upcoming-events/event/2172-interfaith-spor
 ts-day-melton-interfaith-network
END:VEVENT
END:VCALENDAR
