BEGIN:VCALENDAR
VERSION:2.0
PRODID:-//https://faithvictoria.org.au///NONSGML kigkonsult.se iCalcreator 2.10.15//
METHOD:PUBLISH
BEGIN:VEVENT
UID:20260424T184041UTC-5783B2sw3J@https://faithvictoria.org.au/
DTSTAMP:20260424T184041Z
DESCRIPTION:\nCentre for Interfaith &amp\; Cultural Dialogue at Griffith Un
 iversity invites you to:\n&nbsp\;\nSustainable Peace and Development in a 
 Polarising World: Inaugural Commonwealth Conference\n&nbsp\;\nDates and Ti
 me: Monday 9 April - 4:30pm - 9:00pm\; Tuesday 10 April - 8:30am - 9:00pm\
 ; Wednesday 11 April - 8:30am - 6:00pmLocation: Centre for Interfaith &amp
 \; Cultural Dialogue (N35)\, Nathan Campus\, Griffith University\, 170 Kes
 sels Road\, Nathan\, Nathan\, QLD 4111\n&nbsp\;\nWe are witnessing a perio
 d of tumultuous change across the globe. Driven by factors such as the far
 -reaching impacts of climate&nbsp\;change\, political and economic upheava
 ls of Brexit\, US withdrawal from international leadership coupled with th
 e rise of Chinese transnational organisations\, persistent international t
 errorism\, and widening political and social polarisation\, this wave of c
 hange is restructuring how the world works.\nWhat is the role of the Commo
 nwealth of Nations in these changing&nbsp\;times?This conference will expl
 ore the normative and practical leadership roles of faith communities\, un
 iversities\, and the&nbsp\;Commonwealth of Nations itself under the theme:
  &ldquo\;Sustainable Peace and Development in a Polarising World: Perspect
 ives and Contributions from the Commonwealth of Nations.&rdquo\;\nBased on
  the successful precedents of events organised in&nbsp\;conjunction with t
 he G20 and G8 Summits\, it is clear that input&nbsp\;from a broad range of
  voices strengthen international decision&nbsp\;making. This conference wi
 ll assemble experts from around the Commonwealth as part of the&nbsp\;acti
 vities surrounding the Commonwealth Games on the Australian Gold Coast in 
 April 2018.\n&nbsp\;\nCost: $50-$100 | Included: Conference Sessions\, 2 x
  Dinners (Monday and Tuesday)\, Morning Tea &amp\; Afternoon Tea | Exclude
 d: Wednesday dinner\, accommodation and travel\nFor more information and r
 egistration\, click here.\n&nbsp\;\n https://faithvictoria.org.au/upcoming
 -events/event/1338-inaugural-commonwealth-conference-centre-for-interfaith
 -cultural-dialogue-at-griffith-university
DTSTART:20180409T163000Z
DTEND:20180411T180000Z
LOCATION:Centre for Interfaith & Cultural Dialogue\, Griffith University (1
  Collins St\, Melbourne VIC 3000\, Australia)
SUMMARY:Inaugural Commonwealth Conference: Centre for Interfaith & Cultural
  Dialogue at Griffith University
URL:https://faithvictoria.org.au/upcoming-events/event/1338-inaugural-commo
 nwealth-conference-centre-for-interfaith-cultural-dialogue-at-griffith-uni
 versity
END:VEVENT
BEGIN:VEVENT
UID:20260424T184041UTC-5801FPTUgi@https://faithvictoria.org.au/
DTSTAMP:20260424T184041Z
DESCRIPTION:The Wyndham Interfaith Network invites you to\nYouth Leadership
  Camp 2018\nDate: Tuesday 10 to Thursday 12 April 2018Location:&nbsp\;Whit
 ehall Guesthouse\, 11 Learmonth St\, Queenscliff VIC 3225\nThe Wyndham Int
 erfaith Networkoffers a residential experience Tuesday 10th &ndash\;Thursd
 ay 12th April (3days/2 nights) during the 2nd week of the April school hol
 idays at Whitehall Guesthouse in Queenscliff www.whitehallqueenscliff.com.
 auFaith communities with a link to Wyndham can nominate 5 young potential 
 leaders (between 16 &ndash\; 25 years old) to join others.\nThe total numb
 er of places for young people is 30.\nIt is also possible for a faith lead
 er to accompany the young people from their community as an observer and a
 dditional support.\nThe camp is Co Ed with males and female accommodated o
 n different floors of the facility. All costs are covered.\nThe camp will 
 be facilitated by Wyndham CEC\, the Gandhi experiment and Victoria Police.
  It will be active\, creative\, reflective and fun.\nThemes include:\n\nBu
 ilding understanding\;\nResponding to challenge\nintercultural skills\;\nW
 orld&rsquo\;s religions\; and\,\nOrganising social action\n\nSupport and f
 ollow up will be available for young people to plan activities on leadersh
 ip or social action.\nFurther information: Laurence Gray |&nbsp\;laurenceg
 @wyndhamcec.org.au&nbsp\;| 03 9742 4013 https://faithvictoria.org.au/upcom
 ing-events/event/1343-youth-leadership-camp-2018-wyndham-interfaith-networ
 k
DTSTART:20180410T090000Z
DTEND:20180412T170000Z
LOCATION:Whitehall Guesthouse\, 11 Learmonth St\, Queenscliff VIC 3225 (11 
 Learmonth St\, Queenscliff VIC 3225\, Australia)
SUMMARY:Youth Leadership Camp 2018: Wyndham Interfaith Network
URL:https://faithvictoria.org.au/upcoming-events/event/1343-youth-leadershi
 p-camp-2018-wyndham-interfaith-network
END:VEVENT
END:VCALENDAR
