BEGIN:VCALENDAR
VERSION:2.0
PRODID:-//https://faithvictoria.org.au///NONSGML kigkonsult.se iCalcreator 2.10.15//
METHOD:PUBLISH
BEGIN:VEVENT
UID:20260424T214329UTC-4932hNkarf@https://faithvictoria.org.au/
DTSTAMP:20260424T214329Z
DESCRIPTION:Pascha/EasterSunday 8 April 2018Religion: Orthodox Christianity
 \nThe resurrection of Jesus Christ following his death by crucifixion. htt
 ps://faithvictoria.org.au/upcoming-events/event/1253-pascha-easter-christi
 anity
DTSTART;VALUE=DATE:20180408
LOCATION:RSEvents!Pro Location (Colorado\, USA)
SUMMARY:Pascha/Easter (Christianity)
URL:https://faithvictoria.org.au/upcoming-events/event/1253-pascha-easter-c
 hristianity
END:VEVENT
END:VCALENDAR
