BEGIN:VCALENDAR
VERSION:2.0
PRODID:-//https://faithvictoria.org.au///NONSGML kigkonsult.se iCalcreator 2.10.15//
METHOD:PUBLISH
BEGIN:VEVENT
UID:20260423T033711UTC-7607VZTpzz@https://faithvictoria.org.au/
DTSTAMP:20260423T033711Z
DESCRIPTION:AnnunciationStarts on: Monday 25 March 2024Christianity\nThe An
 nunciation marks the visit of the angel Gabriel to the Virgin Mary\, durin
 g which he told her she would be the mother of Jesus Christ\, the Son of G
 od. https://faithvictoria.org.au/upcoming-events/event/2047-annunciation-c
 hristianity
DTSTART;VALUE=DATE:20240325
LOCATION:RSEvents!Pro Location (Colorado\, USA)
SUMMARY:Annunciation (Christianity)
URL:https://faithvictoria.org.au/upcoming-events/event/2047-annunciation-ch
 ristianity
END:VEVENT
BEGIN:VEVENT
UID:20260423T033711UTC-76134B47Es@https://faithvictoria.org.au/
DTSTAMP:20260423T033711Z
DESCRIPTION:Holy Week Begins on Sunday&nbsp\;24 March 2024Ends on&nbsp\;Sat
 urday 30 March 2024Faith: Christianity\nHoly week is the last week before 
 Easter. It begins with Palm Sunday (commemoration of the triumphal entry o
 f Jesus Christ into Jerusalem) and includes Maundy Thursday (commemoration
  of the first Lord’s Supper)\, Good Friday (commemoration of the suffering
  and crucifixion of Jesus Christ) and finishes on Easter Saturday (the one
  full day that Jesus Christ's body laid in the tomb). https://faithvictori
 a.org.au/upcoming-events/event/2051-holy-week-christianity
DTSTART:20240324T000000Z
DTEND:20240330T211550Z
LOCATION:RSEvents!Pro Location (Colorado\, USA)
SUMMARY:Holy Week | Christianity 
URL:https://faithvictoria.org.au/upcoming-events/event/2051-holy-week-chris
 tianity
END:VEVENT
BEGIN:VEVENT
UID:20260423T033711UTC-76160BXd8I@https://faithvictoria.org.au/
DTSTAMP:20260423T033711Z
DESCRIPTION:Great LentBegins on Monday 18 March 2024Ends on Friday 26 April
  2024Orthodox Christianity\nGreat Lent is the period of 40 days which come
 s before Easter\, traditionally a time of fasting and reflection. The 40 d
 ays represents the time Jesus spent in the desert overcoming temptation by
  Satan. In the Orthodox Church\, Great Lent starts on Clean Monday and end
 s on the Friday before Lazarus Saturday and Palm Sunday. https://faithvict
 oria.org.au/upcoming-events/event/2057-great-lent-orthodox-christianity
DTSTART:20240318T165912Z
DTEND:20240426T165912Z
LOCATION:RSEvents!Pro Location (Colorado\, USA)
SUMMARY:Great Lent | Orthodox Christianity 
URL:https://faithvictoria.org.au/upcoming-events/event/2057-great-lent-orth
 odox-christianity
END:VEVENT
BEGIN:VEVENT
UID:20260423T033711UTC-7618nESe9k@https://faithvictoria.org.au/
DTSTAMP:20260423T033711Z
DESCRIPTION:Lent begins on Ash Wednesday Begins on: Wednesday 14 February 2
 024Ends on: Thursday 28 March 2024Christianity\nLent is the period of 40 d
 ays (not including Sundays) which comes before Easter\, traditionally a ti
 me of fasting and reflection. The 40 days represents the time Jesus spent 
 in the desert overcoming temptation by Satan. In Western Christianity\, it
  begins on Ash Wednesday and ends on Maundy Thursday. https://faithvictori
 a.org.au/upcoming-events/event/2058-lent-begins-christianity
DTSTART:20240214T170139Z
DTEND:20240328T170139Z
LOCATION:RSEvents!Pro Location (Colorado\, USA)
SUMMARY:Lent begins | Christianity 
URL:https://faithvictoria.org.au/upcoming-events/event/2058-lent-begins-chr
 istianity
END:VEVENT
BEGIN:VEVENT
UID:20260423T033711UTC-76215tbJDV@https://faithvictoria.org.au/
DTSTAMP:20260423T033711Z
DESCRIPTION:HoliMonday 25 March 2024Faith: Hinduism\nA joyous spring Hindu 
 festival that celebrates love\, spring and the victory of good over evil. 
 People throw colored water or colored powder in celebration. Holika Dahan\
 , the burning of an effigy of a mythical demoness named Holika\, is perfor
 med the night before. https://faithvictoria.org.au/upcoming-events/event/2
 071-holi-hinduism
DTSTART;VALUE=DATE:20240325
LOCATION:RSEvents!Pro Location (Colorado\, USA)
SUMMARY:Holi | Hinduism
URL:https://faithvictoria.org.au/upcoming-events/event/2071-holi-hinduism
END:VEVENT
BEGIN:VEVENT
UID:20260423T033711UTC-7624PlpJB6@https://faithvictoria.org.au/
DTSTAMP:20260423T033711Z
DESCRIPTION:RamadanBegins on Monday 11 March 2024Ends on Tuesday 9 April 20
 24Faith: Islam\nThe holy month of Ramadan begins with the first light of d
 awn commemorating the revelation of the Qur'an to the Prophet Muhammad. Th
 roughout this month Muslims fast during daylight hours\, celebrate an even
 ing meal with family and friends\, pray fervently and show charity to the 
 poor. https://faithvictoria.org.au/upcoming-events/event/2074-ramadan-isla
 m
DTSTART:20240311T000000Z
DTEND:20240409T174059Z
LOCATION:RSEvents!Pro Location (Colorado\, USA)
SUMMARY:Ramadan | Islam 	
URL:https://faithvictoria.org.au/upcoming-events/event/2074-ramadan-islam
END:VEVENT
BEGIN:VEVENT
UID:20260423T033711UTC-7626dn4nF7@https://faithvictoria.org.au/
DTSTAMP:20260423T033711Z
DESCRIPTION:Hola Mohalla Monday 25 March 2024Wednesday 27 March 2024Faith: 
 Sikhism\nAn annual festival started by Guru Gobind Singh\, the 10th Sikh G
 uru\, as a gathering of Sikhs for military exercises and mock battles. htt
 ps://faithvictoria.org.au/upcoming-events/event/2104-hola-mohalla-sikhism
DTSTART:20240325T180529Z
DTEND:20240327T180529Z
LOCATION:RSEvents!Pro Location (Colorado\, USA)
SUMMARY:Hola Mohalla | Sikhism 	
URL:https://faithvictoria.org.au/upcoming-events/event/2104-hola-mohalla-si
 khism
END:VEVENT
END:VCALENDAR
