BEGIN:VCALENDAR
VERSION:2.0
PRODID:-//https://faithvictoria.org.au///NONSGML kigkonsult.se iCalcreator 2.10.15//
METHOD:PUBLISH
BEGIN:VEVENT
UID:20260424T204334UTC-6361CVTG5b@https://faithvictoria.org.au/
DTSTAMP:20260424T204334Z
DESCRIPTION:Monash Interfaith Gathering invites you to:\nYoung people of fa
 ith working towards mutual understanding and community harmony\nDate: Thur
 sday 25 March 2021&nbsp\; &nbsp\; &nbsp\; Time: 6:30pm to 8pmLocation: Onl
 ine\nThe Monash Interfaith Gathering in partnership with the Community Amb
 assadors is hosting a Youth Panel Discussion on Faith during Harmony Week.
  A panel of young people will answer questions about their faith and expla
 in why it is an important part of their identity.The panellists are from a
  number of faith backgrounds.\nThis is a free event.\nThis event will be l
 ivestreamed from 6.30pm.To register please go to: https://bit.ly/2OqZcrhA 
 link to the livestream will be sent to you before the event.\nFor more inf
 ormation contact: Sithy on 0433 325 798 https://faithvictoria.org.au/upcom
 ing-events/event/1772-young-people-of-faith-monash-interfaith-gathering
DTSTART:20210325T183000Z
DTEND:20210325T200000Z
LOCATION:Melbourne VIC 3000 (Melbourne VIC\, Australia)
SUMMARY:Young People of Faith: Monash Interfaith Gathering
URL:https://faithvictoria.org.au/upcoming-events/event/1772-young-people-of
 -faith-monash-interfaith-gathering
END:VEVENT
BEGIN:VEVENT
UID:20260424T204334UTC-6371zjoA9D@https://faithvictoria.org.au/
DTSTAMP:20260424T204334Z
DESCRIPTION:Monash Interfaith Gathering invites you to:\nYouth Panel Discus
 sion on Faith\nDate: Thursday 25 March 2021&nbsp\; &nbsp\; &nbsp\; &nbsp\;
 Time: 6:30pm to 8:30pmLocation: Online event\nThe Monash Interfaith Gather
 ing in partnership with the Community Ambassadors is hosting a Youth Panel
  Discussion on Faith during Harmony Week. A panel of young people will ans
 wer questions about their faith and explain why it is an important part of
  their identity.\nThe panelists are from a number of faith backgrounds.\nT
 o register\, click link.&nbsp\; https://faithvictoria.org.au/upcoming-even
 ts/event/1773-youth-panel-discussion-on-faith
DTSTART:20210325T183000Z
DTEND:20210325T203000Z
LOCATION:Melbourne VIC 3000 (Melbourne VIC\, Australia)
SUMMARY:Youth Panel Discussion on Faith
URL:https://faithvictoria.org.au/upcoming-events/event/1773-youth-panel-dis
 cussion-on-faith
END:VEVENT
END:VCALENDAR
