BEGIN:VCALENDAR
VERSION:2.0
PRODID:-//https://faithvictoria.org.au///NONSGML kigkonsult.se iCalcreator 2.10.15//
METHOD:PUBLISH
BEGIN:VEVENT
UID:20260424T204232UTC-6880b36xZ9@https://faithvictoria.org.au/
DTSTAMP:20260424T204232Z
DESCRIPTION:Cultural Diversity WeekStarts on Sunday 21 March 2021Ends on: S
 unday 28 March 2021\nFor more information:&nbsp\;https://culturaldiversity
 week.vic.gov.au/ https://faithvictoria.org.au/upcoming-events/event/1320-c
 ultural-diversity-week
DTSTART;VALUE=DATE:20210321
LOCATION:RSEvents!Pro Location (Colorado\, USA)
SUMMARY:Cultural Diversity Week 
URL:https://faithvictoria.org.au/upcoming-events/event/1320-cultural-divers
 ity-week
END:VEVENT
BEGIN:VEVENT
UID:20260424T204232UTC-6886dAN5oS@https://faithvictoria.org.au/
DTSTAMP:20260424T204232Z
DESCRIPTION:Harmony Day\nHarmony Week 15- 21 March\nHarmony Day 21 March\nF
 or more information:&nbsp\;https://www.harmony.gov.au/ https://faithvictor
 ia.org.au/upcoming-events/event/1321-harmony-day
DTSTART;VALUE=DATE:20210321
LOCATION:RSEvents!Pro Location (Colorado\, USA)
SUMMARY:Harmony Day 
URL:https://faithvictoria.org.au/upcoming-events/event/1321-harmony-day
END:VEVENT
BEGIN:VEVENT
UID:20260424T204232UTC-6891Nv4F44@https://faithvictoria.org.au/
DTSTAMP:20260424T204232Z
DESCRIPTION:International Day for the Elimination of Racial Discrimination
 \nFor more information:&nbsp\;http://www.un.org/en/events/racialdiscrimina
 tionday/ https://faithvictoria.org.au/upcoming-events/event/1322-internati
 onal-day-for-the-elimination-of-racial-discrimination
DTSTART;VALUE=DATE:20210321
LOCATION:RSEvents!Pro Location (Colorado\, USA)
SUMMARY:International Day for the Elimination of Racial Discrimination 
URL:https://faithvictoria.org.au/upcoming-events/event/1322-international-d
 ay-for-the-elimination-of-racial-discrimination
END:VEVENT
END:VCALENDAR
