BEGIN:VCALENDAR
VERSION:2.0
PRODID:-//https://faithvictoria.org.au///NONSGML kigkonsult.se iCalcreator 2.10.15//
METHOD:PUBLISH
BEGIN:VEVENT
UID:20260424T204232UTC-7271uc1mVh@https://faithvictoria.org.au/
DTSTAMP:20260424T204232Z
DESCRIPTION:Kingston Interfaith Committee invites you to:\nLiving in Harmon
 y\nDate: Friday 19 March 2021&nbsp\; &nbsp\; &nbsp\;Time: 2pm to 4pmLocati
 on:&nbsp\;Derrimut Weelam Gathering Place - Mordialloc Lifesaving Club\, 1
 99 Beach Road\, Mordialloc\nThe Kingston Interfaith Committee invites you 
 to 'Living in Harmony' Wayapa workshop which will be followed by multicult
 ural dancesWayapa workshops are based on ancient Indigenous wisdom that fo
 cuses on taking care of the Earth and creating Mind Body Spirit well-being
 .\nJoin us for a creative workshop led by Wayapa to:\n\nLearn more about i
 ndigenous spirituality\nTry indigenous meditation\nJoin in with gentle mov
 ements\nLearn to connect &amp\; care for the planet.\n\nLiving in harmony 
 with their environment is what sustained Australian Aboriginal people to b
 e one of the world’s oldest\, continuous living culture – for over 100\,00
 0 years.\nCost: Free | Bookings required - please click here.&nbsp\;For mo
 re information click here.\nContact:&nbsp\;Elisabetta Robecchi | (03) 9581
  4783 |&nbsp\;elisabetta.robecchi@kingston.vic.gov.au&nbsp\; https://faith
 victoria.org.au/upcoming-events/event/1770-living-in-harmony-kingston-inte
 rfaith-committee
DTSTART:20210319T140000Z
DTEND:20210319T160000Z
LOCATION:Derrimut Weelam Gathering Place - Mordialloc Lifesaving Club\, 199
  Beach Road\, Mordialloc VIC 3195 (199 Beach Rd\, Mordialloc VIC 3195\, Au
 stralia)
SUMMARY:Living in Harmony: Kingston Interfaith Committee
URL:https://faithvictoria.org.au/upcoming-events/event/1770-living-in-harmo
 ny-kingston-interfaith-committee
END:VEVENT
END:VCALENDAR
