BEGIN:VCALENDAR
VERSION:2.0
PRODID:-//https://faithvictoria.org.au///NONSGML kigkonsult.se iCalcreator 2.10.15//
METHOD:PUBLISH
BEGIN:VEVENT
UID:20260424T204335UTC-50682dkcne@https://faithvictoria.org.au/
DTSTAMP:20260424T204335Z
DESCRIPTION:Bendigo Interfaith Council invites you to:\nAnnual Dinner 2021
 \nDate: Thursday 18 March 2021&nbsp\; &nbsp\; &nbsp\;Time: 6pm for a 6:30p
 m startLocation:&nbsp\;The Conservatory\, All Seasons\, 171 - 183 McIvor R
 d\, Strathdale\, Bendigo\nGuest speaker: Jeremy Jones AM | Director of Int
 ernational and Community Affairs for the Australia/Israel and Jewish Affai
 rs Council\nMore about the speaker: Jeremy is an international authority o
 n interfaith dialogue\, racism and human rights. He has dedicated his life
  to promoting freedom from racial and religious discrimination\, persecuti
 on and harrassment. In 2007 he won the Australian Human Rights Medal for h
 is work against racism and become a leading figure in interfaith relations
 hips and human rights advocacy. He believes that different expressions of 
 creativity can enhance interfaith relationships and build bridges on a reg
 ional\, national and global level in our multicultural society.\nAn opport
 unity for people of all faiths to gather in friendship for good food\, goo
 d company and much laughter. Join in for an evening of music\, food and fu
 n this Harmony Day.\nAll food is Halal certified with a vegetarian option 
 available. Please indicate this requirement when booking under special die
 tary requirement.\nTickets: $60 each | Table of 8 $480 https://faithvictor
 ia.org.au/upcoming-events/event/1765-annual-dinner-2021-bendigo-interfaith
 -council
DTSTART:20210318T180000Z
DTEND:20210318T210000Z
LOCATION:The Conservatory\, All Seasons\, 171 - 183 McIvor Rd\, Strathdale\
 , 3550 (171 McIvor Hwy\, Strathdale VIC 3550\, Australia)
SUMMARY:Annual Dinner 2021: Bendigo Interfaith Council
URL:https://faithvictoria.org.au/upcoming-events/event/1765-annual-dinner-2
 021-bendigo-interfaith-council
END:VEVENT
END:VCALENDAR
