BEGIN:VCALENDAR
VERSION:2.0
PRODID:-//https://faithvictoria.org.au///NONSGML kigkonsult.se iCalcreator 2.10.15//
METHOD:PUBLISH
BEGIN:VEVENT
UID:20260424T220109UTC-55617ingiZ@https://faithvictoria.org.au/
DTSTAMP:20260424T220109Z
DESCRIPTION:Islamic Council of Victoria invites you to:\nVictorian Mosque O
 pen Day 2021\nDate:&nbsp\;Sunday 14 March 2021&nbsp\; &nbsp\; &nbsp\;Time:
  10am to 4pmLocation:&nbsp\;Varied Mosques around Victoria (see below)\nOn
  behalf of the congregations and committees participating in the Islamic C
 ouncil of Victoria’s – Victorian Mosque Open Day 2021\, the ICV would like
  to formally invite you to attend one of the many mosques partaking in our
  annual state-wide mosque open day this year.\nCOVID-19 pandemic disrupted
  many different facets of life and caused a lot of programs and activities
  to be postponed or cancelled last year. The Victorian Mosque Open Day was
  no different. This year\, with the number of COVID cases under control an
 d safety measures in place\, mosques are ready to once again invite people
  from all walks of life to come visit them.\nVictorian Mosque Open Day 202
 1 is to be held as part of Cultural Diversity Week and Harmony Day. Cultur
 al Diversity Week (March 15 – 21) and Harmony Day (March 21) are Victoria’
 s largest multicultural celebrations\, featuring week-long programs of fes
 tivals and events in metropolitan and regional areas.\nBelow are the list 
 of participating mosques and their address.\nIslamic Council of Victoria66
 -69 Jeffcott Street\, West Melbourne\nAlbanian Australian Islamic Society7
 65 Drummond St\, Carlton North VIC 3054\nIslamic Museum of Australia15A An
 derson Rd\, Thornbury VIC 3071\nIslamic Society of Geelong45-47 Bostock Av
 e\, Manifold Heights VIC 3218\nEmir Sultan mosque139 Cleeland St\, Dandeno
 ng VIC 3175\nUMMA Centre (Doncaster mosque)72 George St\, Doncaster East V
 IC 3109\nBenevolence Australia125 George St\, Doncaster East VIC 3108\nAus
 tralian Islamic Centre23-27 Blenheim Rd\, Newport VIC 3015\nAustralian Bos
 nian Islamic Centre Deer Park285 Station Rd\, Albanvale VIC 3021\nGolden W
 attle Mosque700 Davis Rd\, Tarneit VIC 3029\nMonash Mosque16 Beddoe Ave\, 
 Clayton VIC 3168\nVirgin Mary Mosque143 Hogans Rd\, Hoppers Crossing VIC 3
 029\nFind your nearest participating mosque\, new Mosques who come on boar
 d and keep up to date with the Victorian Mosque Open Day&nbsp\;here. https
 ://faithvictoria.org.au/upcoming-events/event/1768-victorian-mosque-open-d
 ay-2021-islamic-council-of-victoria
DTSTART:20210314T100000Z
DTEND:20210314T160000Z
LOCATION:Melbourne VIC 3000 (Melbourne VIC\, Australia)
SUMMARY:Victorian Mosque Open Day 2021: Islamic Council of Victoria
URL:https://faithvictoria.org.au/upcoming-events/event/1768-victorian-mosqu
 e-open-day-2021-islamic-council-of-victoria
END:VEVENT
END:VCALENDAR
