BEGIN:VCALENDAR
VERSION:2.0
PRODID:-//https://faithvictoria.org.au///NONSGML kigkonsult.se iCalcreator 2.10.15//
METHOD:PUBLISH
BEGIN:VEVENT
UID:20260424T204323UTC-6998wNvwhv@https://faithvictoria.org.au/
DTSTAMP:20260424T204323Z
DESCRIPTION:Maha ShivaratriThursday&nbsp\;12.3.2021Religion: Hinduism\nMaha
  Shivaratri (or the 'Great Night of Shiva') is a festival celebrated with 
 devotion and religious fervour in honour of the Hindu deity Lord Shiva\, o
 ne of the deities of the Hindu Trinity. https://faithvictoria.org.au/upcom
 ing-events/event/1234-mahashivaratri-hinduism
DTSTART;VALUE=DATE:20210311
LOCATION:RSEvents!Pro Location (Colorado\, USA)
SUMMARY:MahaShivaratri (Hinduism)
URL:https://faithvictoria.org.au/upcoming-events/event/1234-mahashivaratri-
 hinduism
END:VEVENT
BEGIN:VEVENT
UID:20260424T204323UTC-7004lTuD25@https://faithvictoria.org.au/
DTSTAMP:20260424T204323Z
DESCRIPTION:Lailat al MirajThursday&nbsp\;11&nbsp\;March 2021Religion: Isla
 m\nObservance of Prophet Muhammad’s night journey from Mecca to Jerusalem 
 and his ascension (al Miraj) to heaven and return the same night. Also kno
 wn as ‘Night of Journey’ (al Isra). https://faithvictoria.org.au/upcoming-
 events/event/1255-lailat-al-miraj-islam
DTSTART;VALUE=DATE:20210311
LOCATION:RSEvents!Pro Location (Colorado\, USA)
SUMMARY:Lailat al Miraj (Islam)
URL:https://faithvictoria.org.au/upcoming-events/event/1255-lailat-al-miraj
 -islam
END:VEVENT
BEGIN:VEVENT
UID:20260424T204323UTC-7009MEF47X@https://faithvictoria.org.au/
DTSTAMP:20260424T204323Z
DESCRIPTION:Australian Religious Response to Climate Change invites you to:
 \nGlobal Multi Faith Climate Action | Sacred People Sacred Earth\nDate: Th
 ursday 11 March 2021&nbsp\;Location: varied\nJoin faith communities around
  the world for a huge new multi-faith event calling for bold and immediate
  action on the climate crisis. This will be the biggest-ever global faith-
 based Day of Action for the Climate\, The theme of of the day is Sacred Pe
 ople\, Sacred Earth.\nWhat's happening on March 11?1. Global multi-faith s
 tatement on the climate On March 11\, the GreenFaith International (GFI) N
 etwork will publicise a multi faith statement calling for a recovery from 
 COVID which will help create a more just world order while tackling the cl
 imate crisis. This will be signed by high-profile leaders of a wide range 
 of faiths as well as regular people of faith and we'd love you to sign thi
 s and ask others to do the same. By March 11 we aim to have the signatures
  of tens of thousands of religious leaders and individual people of faith 
 and spirit.\nGFI will then call for a “Year of Action” in the lead-up to t
 he next round of crucial international climate negotiations (known as COP2
 6) which will be held in Glasgow in November 2021. People of faith around 
 the world will press urgently at the national and international levels for
  a compassionate\, just response to COVID-19 and the climate emergency.\nH
 ere's the link to all the resources on GFI's Sacred People\, Sacred Earth 
 website.\n2. Places of worship worldwide call for climate justiceIn suppor
 t of the statement and to draw attention to it\, faith communities around 
 the world are being asked to ‘sound the alarm’ for the climate and call fo
 r climate justice as we try to get our economies going in the wake of COVI
 D.\nEach place of worship\, faith-based small group or household will choo
 se its own way to do this: by ringing its bells\, by sounding a note on th
 e shofar\, calling the Azan\, by chanting and by meditating. Just as long 
 as make a noise - or even some thunderous silence! We each have our own tr
 aditions\, but we will be united in one clear message.\nEvery place of wor
 ship on Earth or small faith-based group is invited to join in. Here's a c
 omprehensive toolkit with everything you need to hold a great action.\nPle
 ase hold your action at 11 am at your local time on March 11.\nThis is the
  eleventh hour for climate action! We are in a climate emergency so there'
 s no time to waste. If 11 am doesn’t suit you\, no problem. Holding it at 
 any time on the day will be fine.\nWho is involved?A global\, multi-faith 
 coalition called GreenFaith International is organising thousands of faith
  communities to take part in this global Day of Action. It is being held i
 n at least 14 countries including Brazil\, Kenya\, Chile\, Germany\, UK\, 
 Indonesia\, India\, Uganda\, Nigeria and the Southern African region. So y
 our local actions as part of this will be part of something huge.\nThese t
 wo combined actions will form the basis of the public launch of a new inte
 rnational multi-faith network for climate action called GreenFaith Interna
 tional.\nHow to get involvedPlease complete the form here. https://faithvi
 ctoria.org.au/upcoming-events/event/1762-global-multi-faith-climate-action
 -australian-religious-response-to-climate-change
DTSTART;VALUE=DATE:20210311
LOCATION:Melbourne VIC 3000 (Melbourne VIC\, Australia)
SUMMARY:Global Multi Faith Climate Action: Australian Religious Response to
  Climate Change
URL:https://faithvictoria.org.au/upcoming-events/event/1762-global-multi-fa
 ith-climate-action-australian-religious-response-to-climate-change
END:VEVENT
END:VCALENDAR
