BEGIN:VCALENDAR
VERSION:2.0
PRODID:-//https://faithvictoria.org.au///NONSGML kigkonsult.se iCalcreator 2.10.15//
METHOD:PUBLISH
BEGIN:VEVENT
UID:20260424T204235UTC-9251sNrivI@https://faithvictoria.org.au/
DTSTAMP:20260424T204235Z
DESCRIPTION:Labour&nbsp\;Day https://faithvictoria.org.au/upcoming-events/e
 vent/1096-labour-day-public-holiday-victoria
DTSTART;VALUE=DATE:20210308
LOCATION:RSEvents!Pro Location (Colorado\, USA)
SUMMARY:Labour Day (Public Holiday Victoria)
URL:https://faithvictoria.org.au/upcoming-events/event/1096-labour-day-publ
 ic-holiday-victoria
END:VEVENT
END:VCALENDAR
