BEGIN:VCALENDAR
VERSION:2.0
PRODID:-//https://faithvictoria.org.au///NONSGML kigkonsult.se iCalcreator 2.10.15//
METHOD:PUBLISH
BEGIN:VEVENT
UID:20260424T191224UTC-6273FZcoE2@https://faithvictoria.org.au/
DTSTAMP:20260424T191224Z
DESCRIPTION:Women's Federation for World Peace invites you to:\nFaith Stori
 es | Conversations &amp\; Story TellingTheme: Mystics\nDate: Saturday 6 Ma
 rch 2021&nbsp\; &nbsp\; &nbsp\;Time: 10am to 3:30pmLocation:&nbsp\;WFWP Re
 qional Headquarter\, 42-46 Bartley Road\, Belgrave Heights&nbsp\;\nEvery d
 ay we are bombarded with stories and images of racial and religious tensio
 n. What we rarely see and hear about are the stories of a small group of w
 omen in the Yarra Ranges who are working to create a culture of cohesion a
 nd harmony via connecting communities. We believe that acceptance and resp
 ect come from understanding each other's values\, beliefs and most importa
 ntly our similarities rather than differences.\nFaith Stories generates su
 ch a heartfelt response from the audience\, you will have the opportunity 
 to ask the most honest questions to each speaker. A person’s stereotypes a
 bout another’s faith practice causes division\, rather than understanding.
  Are you ready to hear understanding? Are you ready to see the difference 
 between culture and faith? Are you ready to open your heart?\nIt is our ho
 pe that these conversations will start a ripple effect of understanding th
 at will spread and eventually be a catalyst to alleviate unfounded stereot
 ypes hindering community cohesion.\nLunch\, morning and afternoon tea prov
 ided.\nTo register\, click here.&nbsp\;\nFree event (entry gift requested)
  | For flyer with names of speakers and agenda\, click here.&nbsp\; https:
 //faithvictoria.org.au/upcoming-events/event/1759-faith-stories-womens-fed
 eration-for-world-peace
DTSTART:20210306T100000Z
DTEND:20210306T153000Z
LOCATION:WFWP Reqional Headquarter\, 42-46 Bartley Road\, Belgrave Heights 
 VIC 3160 (42-46 Bartley Rd\, Belgrave Heights VIC 3160\, Australia)
SUMMARY:Faith Stories: Women's Federation for World Peace
URL:https://faithvictoria.org.au/upcoming-events/event/1759-faith-stories-w
 omens-federation-for-world-peace
END:VEVENT
END:VCALENDAR
