BEGIN:VCALENDAR
VERSION:2.0
PRODID:-//https://faithvictoria.org.au///NONSGML kigkonsult.se iCalcreator 2.10.15//
METHOD:PUBLISH
BEGIN:VEVENT
UID:20260424T190627UTC-4793Xv24eu@https://faithvictoria.org.au/
DTSTAMP:20260424T190627Z
DESCRIPTION:Lent begins on Ash Wednesday Begins on: Wednesday 14 February 2
 024Ends on: Thursday 28 March 2024Christianity\nLent is the period of 40 d
 ays (not including Sundays) which comes before Easter\, traditionally a ti
 me of fasting and reflection. The 40 days represents the time Jesus spent 
 in the desert overcoming temptation by Satan. In Western Christianity\, it
  begins on Ash Wednesday and ends on Maundy Thursday. https://faithvictori
 a.org.au/upcoming-events/event/2058-lent-begins-christianity
DTSTART:20240214T170139Z
DTEND:20240328T170139Z
LOCATION:RSEvents!Pro Location (Colorado\, USA)
SUMMARY:Lent begins | Christianity 
URL:https://faithvictoria.org.au/upcoming-events/event/2058-lent-begins-chr
 istianity
END:VEVENT
BEGIN:VEVENT
UID:20260424T190627UTC-48030J3Re7@https://faithvictoria.org.au/
DTSTAMP:20260424T190627Z
DESCRIPTION:Maroondah Interfaith Network invites y2024ou to:\nHarmony Day C
 elebration&nbsp\;\nDate: Tuesday 5 March 2024&nbsp\; &nbsp\; Time: 12pm to
  2pmLocation:&nbsp\;Ora D'Oro restaurant\, 28 Hewish Road\, Croydon VIC 31
 36\nThe Maroondah Interfaith Network has been thinking about issues of soc
 ial justice\, of access\, equity and inclusion and wish to continue this t
 heme in the luncheon. We are also inviting members of the Access\, Equity 
 and Inclusion Advisory Committee of the Maroondah Council\, some employees
  of Maroondah Council and leaders of faith and cultural communities in the
  Maroondah area.\nAn opportunity for community and religious leaders to re
 flect together on the Maroondah vision 2050\nA range of options for lunch 
 will be available. The lunch is free and is covered by a grant from the Ma
 roondah Council.\nClick here to register to attend.\nThis event is kindly 
 supported by a grant from Maroondah City Council.&nbsp\; https://faithvict
 oria.org.au/upcoming-events/event/2161-harmony-day-celebration-maroondah-i
 nterfaith-network
DTSTART:20240305T120000Z
DTEND:20240305T140000Z
LOCATION:Ora D'Oro restaurant\, 28 Hewish Road\, Croydon VIC 3136 (28 Hewis
 h Rd\, Croydon VIC 3136\, Australia)
SUMMARY:Harmony Day Celebration: Maroondah Interfaith Network
URL:https://faithvictoria.org.au/upcoming-events/event/2161-harmony-day-cel
 ebration-maroondah-interfaith-network
END:VEVENT
END:VCALENDAR
