BEGIN:VCALENDAR
VERSION:2.0
PRODID:-//https://faithvictoria.org.au///NONSGML kigkonsult.se iCalcreator 2.10.15//
METHOD:PUBLISH
BEGIN:VEVENT
UID:20260424T163731UTC-5322URPMJI@https://faithvictoria.org.au/
DTSTAMP:20260424T163731Z
DESCRIPTION:The Interfaith Centre of Melbourne and St Michael’s Uniting Chu
 rch\,&nbsp\;invite you to:\nBushfires and the Climate Crisis:&nbsp\;How do
  we make 2020 a transformative year for all Creation? |&nbsp\;Faith Leader
 s join for Interfaith Dialogue\nDate: Monday 2 March 2020&nbsp\; &nbsp\; &
 nbsp\;Time: 6:30pm to 8:30pmLocation: St Michael's Hall\, 120 Collins Stre
 et\, Melbourne VIC 3000Entrance:&nbsp\;end of St Michael’s Walk.\nSpecial 
 guests:\n\nDr Maureen Sier\, Director\, Interfaith Scotland\nRev’d Glenn L
 oughrey\, Anglican Priest\, Wiradjuri man\nRabbi Jonathan Keren-Black\, Au
 stralian Religious Response to Climate Change\nRev Dr Margaret Mayman\, St
  Michael’s Uniting Church\n\nSpecial guests and faith leaders will share h
 ow faith communities are responding to the unprecedented bushfires in Aust
 ralia and the climate crisis. Practical solutions for caring for all Creat
 ion will be offered along with urgent steps we need to take as people of f
 aith\, mindful of our sacred texts: Love of God and Love of the Neighbour 
 or Love of the Good and Love of the Neighbour.Many religious and spiritual
  leaders will attend the 24th session of the Conference of the Parties (CO
 P26) of the UN Framework Convention on Climate Change\, 9-19 November\, in
  Glasgow\, Scotland.\nBookings essential for seating and catering purposes
  | Refreshments at 6:30pm\nEmail: Rev Helen Summers info@interfaithcentre.
 org.au&nbsp\;|&nbsp\;0400 228 146Cost:&nbsp\;No charge\, donations welcome
 . For flyer\, click here.&nbsp\; https://faithvictoria.org.au/upcoming-eve
 nts/event/1682-bushfires-and-the-climate-crisis-the-interfaith-centre-of-m
 elbourne
DTSTART:20200302T183000Z
DTEND:20200302T203000Z
LOCATION:St Michael's Hall\, 120 Collins Street\, Melbourne VIC 3000 (120 C
 ollins St\, Melbourne VIC 3000\, Australia)
SUMMARY:Bushfires and the Climate Crisis: The Interfaith Centre of Melbourn
 e
URL:https://faithvictoria.org.au/upcoming-events/event/1682-bushfires-and-t
 he-climate-crisis-the-interfaith-centre-of-melbourne
END:VEVENT
END:VCALENDAR
