BEGIN:VCALENDAR
VERSION:2.0
PRODID:-//https://faithvictoria.org.au///NONSGML kigkonsult.se iCalcreator 2.10.15//
METHOD:PUBLISH
BEGIN:VEVENT
UID:20260424T150820UTC-88042g2jV5@https://faithvictoria.org.au/
DTSTAMP:20260424T150820Z
DESCRIPTION:SalamFest with the support of the Jewish Christian Muslim Assoc
 iation of Australia (Vic) invites you to:\nThe Abrahamic Faiths Maintainin
 g Connections and Relationships in Challenging Times\nDate: Sunday 1 March
  2020&nbsp\; &nbsp\; Time: 4pm to 5:30pmLocation:&nbsp\;Cardinal Knox Cent
 re Theatre\, 383 Albert Street\, East Melbourne VIC 3002\nSpeakers:\n\nShe
 ikh Mazen Ahram\, Imam and Mraqub (Monitor) of all Mosques in Jerusalem\, 
 Teacher at Al Aqsa mosque&nbsp\;\nRev Ian Smith\, JCMA President\nRabbi Ra
 lph Genende OAM\, Senior Rabbi Caulfield Hebrew Congregation\n\nSalamFest 
 with the support of the Jewish Christian Muslim Association invite you for
  an afternoon of conversation with a special international guest Sheikh Ma
 zen Ahram\, the Imam and Mraqub (Monitor) of all Mosques in Jerusalem.\nJo
 ining the Imam will be Rev Ian Smith and Rabbi Ralph Genende\, having met 
 with Sheikh Mazen Ahram in Jerusalem while on the ‘JCMA Joint Journey To J
 erusalem’ can renew the friendship and continue the conversations.\nWe kno
 w there are tensions and a diverse range of views but as the Abrahamic fai
 ths come together how do we understand this sacred and holy place importan
 t to all three faiths. How can we maintain connections and relationships b
 etween people of the Abrahamic faiths in these challenging times?\nTo regi
 ster online\, please click here.&nbsp\;\nContact:&nbsp\;Ginette Everest |0
 400 211 221&nbsp\;|&nbsp\;executiveofficer@jcma.org.auFor more information
  on Islamfest visit: www.salamfest.com. For more information on JCMA visit
 : http://www.jcma.org.au JCMA Facebook page: https://www.facebook.com/jcma
 online https://faithvictoria.org.au/upcoming-events/event/1680-the-abraham
 ic-faiths-maintaining-connections-and-relationships-in-challenging-times-j
 ewish-christian-muslim-association
DTSTART:20200301T160000Z
DTEND:20200301T173000Z
LOCATION:Cardinal Knox Centre Theatre\, 383 Albert Street\, East Melbourne 
 VIC 3002 (383 Albert St\, East Melbourne VIC 3002\, Australia)
SUMMARY:The Abrahamic Faiths Maintaining Connections and Relationships in C
 hallenging Times: Jewish Christian Muslim Association 
URL:https://faithvictoria.org.au/upcoming-events/event/1680-the-abrahamic-f
 aiths-maintaining-connections-and-relationships-in-challenging-times-jewis
 h-christian-muslim-association
END:VEVENT
END:VCALENDAR
