BEGIN:VCALENDAR
VERSION:2.0
PRODID:-//https://faithvictoria.org.au///NONSGML kigkonsult.se iCalcreator 2.10.15//
METHOD:PUBLISH
BEGIN:VEVENT
UID:20260419T160514UTC-2051JkcbVv@https://faithvictoria.org.au/
DTSTAMP:20260419T160514Z
DESCRIPTION:Great LentBegins on Monday 27 February 2023Ends on Friday 7 Apr
 il 2023Orthodox Christianity\nGreat Lent is the period of 40 days which co
 mes before Easter\, traditionally a time of fasting and reflection. The 40
  days represents the time Jesus spent in the desert overcoming temptation 
 by Satan. In the Orthodox Church\, Great Lent starts on Clean Monday and e
 nds on the Friday before Lazarus Saturday and Palm Sunday. https://faithvi
 ctoria.org.au/upcoming-events/event/1941-great-lent-orthodox-christianity
DTSTART;VALUE=DATE:20230227
LOCATION:RSEvents!Pro Location (Colorado\, USA)
SUMMARY:Great Lent | Orthodox Christianity 
URL:https://faithvictoria.org.au/upcoming-events/event/1941-great-lent-orth
 odox-christianity
END:VEVENT
END:VCALENDAR
