BEGIN:VCALENDAR
VERSION:2.0
PRODID:-//https://faithvictoria.org.au///NONSGML kigkonsult.se iCalcreator 2.10.15//
METHOD:PUBLISH
BEGIN:VEVENT
UID:20260424T211830UTC-16867FMPM5@https://faithvictoria.org.au/
DTSTAMP:20260424T211830Z
DESCRIPTION:The Council for Christians and Jews (Vic) invites you to:\nTack
 ling Hate Speech Program\nDate:&nbsp\;Sunday 23 February 2020&nbsp\; &nbsp
 \; &nbsp\;&nbsp\;Time:&nbsp\;1:30pm to 8pmLocation:&nbsp\;Bentleigh Unitin
 g Church\, 495-497 Centre Road\, Bentleigh VIC 3204\nThe Council of Christ
 ians and Jews (Vic) together with the Online Hate Prevention Institute pre
 sent the Community Representative Training for the Tackling Hate Speech pr
 ogram.\nThe Community Training Day is designed to teach community represen
 tatives to recognise and appropriately respond to hate. This includes trai
 ning and resources so that community representatives will then be able to 
 run short introductory sessions in their communities.&nbsp\;\nThemes to be
  explored include: relevant Australian and Victorian law\; racism in gener
 al\, and against Indigenous Australians\; antisemitism\; Holocaust denial\
 ; Islamophobia\; anti-Christian hate and online reporting.\nContact:&nbsp\
 ;ccjvic@bigpond.net.au&nbsp\;|&nbsp\;(03) 9429 5212 https://faithvictoria.
 org.au/upcoming-events/event/1663-tackling-hate-speech-program-council-of-
 christians-and-jews-vic
DTSTART:20200223T133000Z
DTEND:20200223T200000Z
LOCATION:Bentleigh Uniting Church\, 495 - 497 Centre Road\, Bentleigh VIC 3
 204 (495-497 Centre Rd\, Bentleigh VIC 3204\, Australia)
SUMMARY:Tackling Hate Speech Program: Council of Christians and Jews (Vic)
URL:https://faithvictoria.org.au/upcoming-events/event/1663-tackling-hate-s
 peech-program-council-of-christians-and-jews-vic
END:VEVENT
END:VCALENDAR
