BEGIN:VCALENDAR
VERSION:2.0
PRODID:-//https://faithvictoria.org.au///NONSGML kigkonsult.se iCalcreator 2.10.15//
METHOD:PUBLISH
BEGIN:VEVENT
UID:20260420T012025UTC-8597TV7HUJ@https://faithvictoria.org.au/
DTSTAMP:20260420T012025Z
DESCRIPTION:Lent begins on Ash Wednesday Begins on: Wednesday 22 February 2
 023Ends on: Thursday 6 April 2023Christianity\nLent is the period of 40 da
 ys (not including Sundays) which comes before Easter\, traditionally a tim
 e of fasting and reflection. The 40 days represents the time Jesus spent i
 n the desert overcoming temptation by Satan. In Western Christianity\, it 
 begins on Ash Wednesday and ends on Maundy Thursday. https://faithvictoria
 .org.au/upcoming-events/event/1424-lent-begins-christianity
DTSTART;VALUE=DATE:20230222
LOCATION:RSEvents!Pro Location (Colorado\, USA)
SUMMARY:Lent begins | Christianity 
URL:https://faithvictoria.org.au/upcoming-events/event/1424-lent-begins-chr
 istianity
END:VEVENT
END:VCALENDAR
