BEGIN:VCALENDAR
VERSION:2.0
PRODID:-//https://faithvictoria.org.au///NONSGML kigkonsult.se iCalcreator 2.10.15//
METHOD:PUBLISH
BEGIN:VEVENT
UID:20260424T211718UTC-3312KKfvmN@https://faithvictoria.org.au/
DTSTAMP:20260424T211718Z
DESCRIPTION:Maroondah Interfaith Network invites you to:\nIn Pursuit of Hap
 piness Seminar Series: Dealing with the challenges of life\nDate:&nbsp\;Sa
 turday&nbsp\;22 February 2020 &nbsp\; &nbsp\;&nbsp\;Time:&nbsp\;3pm to 5pm
 Location:&nbsp\;Janssen Spirituality Centre\, 22 Woodvale Road\, Boronia V
 IC 3155\nWhile our backgrounds may be very different\, there are common go
 als for all human beings. We want a life that is happy. We want to live in
  a society which is peaceful and harmonious.The aim of these seminars is t
 o explore what our different traditions and what science tells us as a bas
 is for thinking through how to live a happy and fulfilling life. We will s
 eek to find what is common and understand our differences.\nPeople turn fi
 rst to their friends and to music to deal with challenging times in life. 
 For some people religious faith is also important. What truly helps us mee
 t the challenges of daily living?\nProf. Philip Hughes will introduce the 
 topic. Discussion will be facilitated by Norm Curry.\nPanel members includ
 e:\n\nDamian Gauci (Buddhist)\nRev Lucas Taylor (Protestant Christian)\nMa
 ry Dewberry (Psychologist)\nFr Thien Nguyen (Catholic Christian)\n\nFollow
 ing brief presentations from the panel members and discussion with them\, 
 there will be group discussion.\nCost:&nbsp\;Free |&nbsp\;To register\, cl
 ick&nbsp\;hereFor more information\, contact:&nbsp\;Prof. Philip Hughes |&
 nbsp\;maroondahinterfaith@gmail.com&nbsp\;|&nbsp\;www.maroondahinterfaith.
 org.au&nbsp\;\nThis series of seminars is organised by the Maroondah Inter
 faith Network in conjunction with the Karuna Project.&nbsp\;The Karuna Pro
 ject is an interfaith project to grow an unconditional love centre where a
 ll are welcome\, whatever their spiritual perspective.&nbsp\;(Karuna is a 
 Sanskrit word for compassion).\nThe seminar series has been made possible 
 by a grant from the Maroondah City Council https://faithvictoria.org.au/up
 coming-events/event/1629-in-pursuit-of-happiness-dealing-with-the-challeng
 es-of-life-maroondah-interfaith-network
DTSTART:20200222T150000Z
DTEND:20200222T170000Z
LOCATION:Janssen Spirituality Centre\, 22 Woodvale Road\, Boronia VIC 3155 
 (22 Woodvale Rd\, Boronia VIC 3155\, Australia)
SUMMARY:In Pursuit of Happiness: Dealing with the Challenges of Life | Maro
 ondah Interfaith Network
URL:https://faithvictoria.org.au/upcoming-events/event/1629-in-pursuit-of-h
 appiness-dealing-with-the-challenges-of-life-maroondah-interfaith-network
END:VEVENT
END:VCALENDAR
