BEGIN:VCALENDAR
VERSION:2.0
PRODID:-//https://faithvictoria.org.au///NONSGML kigkonsult.se iCalcreator 2.10.15//
METHOD:PUBLISH
BEGIN:VEVENT
UID:20260420T081340UTC-5624Id2tan@https://faithvictoria.org.au/
DTSTAMP:20260420T081340Z
DESCRIPTION:MahaShivaratri Saturday 18 February 2023Faith: Hinduism\nMahaSh
 ivaratri (or ‘Great Night of Shiva’) is a festival celebrated in honour of
  the Hindu deity Lord Shiva\, one of the deities of the Hindu Trinity. htt
 ps://faithvictoria.org.au/upcoming-events/event/1938-mahashivaratri-hindui
 sm
DTSTART;VALUE=DATE:20230218
LOCATION:RSEvents!Pro Location (Colorado\, USA)
SUMMARY:MahaShivaratri | Hinduism
URL:https://faithvictoria.org.au/upcoming-events/event/1938-mahashivaratri-
 hinduism
END:VEVENT
BEGIN:VEVENT
UID:20260420T081340UTC-5628M88KKU@https://faithvictoria.org.au/
DTSTAMP:20260420T081340Z
DESCRIPTION:Lailat al Miraj Saturday 18 February 2023Faith: Islam\nObservan
 ce of Prophet Muhammad’s night journey from Mecca to Jerusalem and his asc
 ension (al Miraj) to heaven and return the same night. Also known as ‘Nigh
 t of Journey’ (al Isra). https://faithvictoria.org.au/upcoming-events/even
 t/1939-lailat-al-miraj-islam
DTSTART;VALUE=DATE:20230218
LOCATION:RSEvents!Pro Location (Colorado\, USA)
SUMMARY:Lailat al Miraj | Islam
URL:https://faithvictoria.org.au/upcoming-events/event/1939-lailat-al-miraj
 -islam
END:VEVENT
END:VCALENDAR
