BEGIN:VCALENDAR
VERSION:2.0
PRODID:-//https://faithvictoria.org.au///NONSGML kigkonsult.se iCalcreator 2.10.15//
METHOD:PUBLISH
BEGIN:VEVENT
UID:20260422T110226UTC-83933kkAF7@https://faithvictoria.org.au/
DTSTAMP:20260422T110226Z
DESCRIPTION:Monash Interfaith Gathering invites you to:\nReligious Persecut
 ion\nDate: Thursday 16 February 2023&nbsp\; &nbsp\; &nbsp\; Time: 7pm to 9
 pmLocation: Online and In person | Monash Council Hall\, 293 Springvale Rd
 \, Glen Waverley VIC 3150\nPersecution lies at the intersection of interfa
 ith relations and the relationship between state and religion. It remains 
 one of the great problems facing our modern world\, and a central concern 
 to the work of Monash Interfaith Gathering (MIG).\nHow can we understand i
 ts causes\, motifs and who is behind it?What can we do - globally\, nation
 ally\, as communities\, and as individuals - about persecution?How are we 
 to move beyond persecution to live in harmony with one another?\nMIG welco
 mes Professor Joseph Camilleri\, who will speak on the subject of Religiou
 s Persecution.\nAbout the speaker:\nJoseph A. Camilleri OAM is Emeritus Pr
 ofessor\, La Trobe University and Managing Director of Alexandria Agenda. 
 He was founding Director of the Centre for Dialogue\, La Trobe University 
 (2006-2012)\, and has authored or edited over thirty books and more than 1
 00 book chapters and journal articles. He has lectured and worked with man
 y organisations in Australia and internationally around issues of governan
 ce\, the role of religion and culture in society\, the dialogue of religio
 ns and cultures\, education\, dialogue\, peace and security\, and human ri
 ghts. In recent years he has convened some twenty national and internation
 al dialogues and conferences. He is the recipient of the Order of Australi
 a Medal\, a Fellow of the Australian Academy of Social Sciences\, and Conv
 ener of Conversation at the Crossroads. (https://crossroadsconversation.co
 m.au/)\nTo register for in-person event\, click here.\nTo register for onl
 ine event\, click here.\nContact:&nbsp\;secretary@monashinterfaith.org.au 
 https://faithvictoria.org.au/upcoming-events/event/2009-religious-persecut
 ion-monash-interfaith-gathering
DTSTART:20230216T190000Z
DTEND:20230216T210000Z
LOCATION:Monash Council Hall\, 293 Springvale Rd\, Glen Waverley VIC 3150 (
 293 Springvale Rd\, Glen Waverley VIC 3150\, Australia)
SUMMARY:Religious Persecution: Monash Interfaith Gathering
URL:https://faithvictoria.org.au/upcoming-events/event/2009-religious-perse
 cution-monash-interfaith-gathering
END:VEVENT
END:VCALENDAR
