BEGIN:VCALENDAR
VERSION:2.0
PRODID:-//https://faithvictoria.org.au///NONSGML kigkonsult.se iCalcreator 2.10.15//
METHOD:PUBLISH
BEGIN:VEVENT
UID:20260424T211810UTC-3924iV46sH@https://faithvictoria.org.au/
DTSTAMP:20260424T211810Z
DESCRIPTION:The Council of Christians and Jews (Victoria) invites you to:\n
 Aboriginal Spirituality and the Christian Faith\nDate:&nbsp\;Sunday 16 Feb
 ruary 2020&nbsp\; &nbsp\; &nbsp\;Time:&nbsp\;3pm to 5pmLocation:&nbsp\;St 
 Oswald's Anglican Church\, 100 High Street\, Glen Iris VIC 3146\nSpeaker:&
 nbsp\;Rev Glenn Loughrey\nAbout the speaker:&nbsp\;Rev Glenn Loughrey is a
  Wiradjuri man from NSW and a priest at St Oswald's Anglican Church. He is
  an artist who fuses Indigenous art styles with Western forms of storytell
 ing. He often uses his art to reflect on the diversity of Indigenous ident
 ity and its disconnect from the dominant culture. He explores his own jour
 ney of discovery to reclaim the sense of country on a personal and communi
 ty level.\nAdmission:&nbsp\;$10 including Kosher afternoon tea and a tour 
 of the Wominjeka Reconciliation Garden\nPlease advise the CCJ office if yo
 u are attending | (03) 9429 5212 |&nbsp\;ccjvic@bigpond.net.au https://fai
 thvictoria.org.au/upcoming-events/event/1662-aboriginal-spirituality-and-t
 he-christian-faith-rev-glenn-loughrey
DTSTART:20200216T150000Z
DTEND:20200216T170000Z
LOCATION:St Oswald's Anglican Church 100 High Street\, Glen Iris\, VIC 3146
  (100 High St\, Glen Iris VIC 3146\, Australia)
SUMMARY:Aboriginal Spirituality and the Christian Faith: Rev Glenn Loughrey
URL:https://faithvictoria.org.au/upcoming-events/event/1662-aboriginal-spir
 ituality-and-the-christian-faith-rev-glenn-loughrey
END:VEVENT
END:VCALENDAR
