BEGIN:VCALENDAR
VERSION:2.0
PRODID:-//https://faithvictoria.org.au///NONSGML kigkonsult.se iCalcreator 2.10.15//
METHOD:PUBLISH
BEGIN:VEVENT
UID:20260419T182711UTC-24781K3dX0@https://faithvictoria.org.au/
DTSTAMP:20260419T182711Z
DESCRIPTION:The Parliament of World Religions invites you to:\nOn Winning F
 irst Place | The Interfaith Centre of MelbourneWorld Interfaith Harmony We
 ek Webinar Series\nDate: Monday\, 11 February 2019&nbsp\; &nbsp\; &nbsp\; 
 Time: 1pm&nbsp\;Location:&nbsp\;https://register.gotowebinar.com/register/
 444454882425676044&nbsp\;\nThroughout 2019\, the Parliament will be conven
 ing successful interfaith organizers to share World Interfaith Harmony Wee
 k experiences in order to help individuals\, organizations\, and organizer
 s around the world as guests of the Parliament's World Interfaith Harmony 
 Week Webinar Series.\n&nbsp\;\nWebinar SummaryRev. Helen Summers represent
 ing the Interfaith Center of Melbourne\, first place winners of the 2018 W
 orld Interfaith Harmony Week\, share the inspiration for their event\, wha
 t their success has meant for their center\, and what they hope for their 
 future and the future of WIHW in Australia.\nFeatured Speakers\n\nRev. Hel
 en Summers\, Founder &amp\; Director of the Interfaith Centre of Melbourne
 \nSwami Sunishthananda\, Vedanta Centre of Melbourne\nRabbi Jonathan Keren
 -Black\, Australian Religious Response to Climate Change\n\nFor more infor
 mation\, please click here. For flyer\, please click here.&nbsp\; https://
 faithvictoria.org.au/upcoming-events/event/1522-on-winning-first-place-par
 liament-of-world-religions-webinar
DTSTART:20190211T130000Z
DTEND:20190211T140000Z
LOCATION:RSEvents!Pro Location (Colorado\, USA)
SUMMARY:On Winning First Place: Parliament of World Religions Webinar
URL:https://faithvictoria.org.au/upcoming-events/event/1522-on-winning-firs
 t-place-parliament-of-world-religions-webinar
END:VEVENT
END:VCALENDAR
