BEGIN:VCALENDAR
VERSION:2.0
PRODID:-//https://faithvictoria.org.au///NONSGML kigkonsult.se iCalcreator 2.10.15//
METHOD:PUBLISH
BEGIN:VEVENT
UID:20260419T164709UTC-53025OGaPl@https://faithvictoria.org.au/
DTSTAMP:20260419T164709Z
DESCRIPTION:The Council of Christians and Jews (Victoria) invites you to:\n
 A WOMAN? |&nbsp\;Reintegrating the Feminine Presence in Our Ancient Texts 
 And Modern Practice\nDate:&nbsp\;Sunday 10 February 2019&nbsp\; &nbsp\; &n
 bsp\;Time:&nbsp\;3pm to 5pmLocation: Bentleigh Uniting Church\,&nbsp\;495 
 - 497 Centre Road\, Bentleigh VIC 3204 (Mel Ref: 77 F1)\nSpeakers:&nbsp\;R
 abbi Alison Conyer and Dr Julie Hall\nAbout the speakers:\n\nRabbi Alison 
 Conyer is Rabbi at Etz Hayim Progressive Synagogue in Bentleigh\, with exp
 erience in Jewish education\, community outreach\, counselling\, fundraisi
 ng\, outreach to the youth\, young adults and young families. She is passi
 onate about scuba diving\, acting\, bushwalking and camping\, as well as s
 ocial justice\, Israel\, interfaith dialogue and Jewish growth.\nDr Julie 
 Hall&nbsp\;is Minister at Bentleigh Uniting Church. She has an extensive s
 ocial work background with experience working with women\, children and fa
 milies in counselling\, health\, parenting education and welfare settings.
  Julie also trained in interfaith ministry\, is an advisor to the Interfai
 th Centre of Melbourne\, chairs the Uniting Church VicTas Synod Working Gr
 oup on Christian-Jewish Relations and is a committee member of the Progres
 sive Christian Network of Victoria.\n\nAdmission:&nbsp\;$10 including Kosh
 er afternoon tea&nbsp\;\nPlease advise the CCJ office if you are attending
  | (03) 9429 5212 |&nbsp\;ccjvic@bigpond.net.au https://faithvictoria.org.
 au/upcoming-events/event/1515-reintegrating-the-feminine-presence-in-our-a
 ncient-texts-and-modern-practice-council-of-christians-and-jews
DTSTART:20190210T150000Z
DTEND:20190210T170000Z
LOCATION:Bentleigh Uniting Church\, 495 - 497 Centre Road\, Bentleigh VIC 3
 204 (495-497 Centre Rd\, Bentleigh VIC 3204\, Australia)
SUMMARY:Reintegrating the Feminine Presence in Our Ancient Texts And Modern
  Practice: Council of Christians and Jews
URL:https://faithvictoria.org.au/upcoming-events/event/1515-reintegrating-t
 he-feminine-presence-in-our-ancient-texts-and-modern-practice-council-of-c
 hristians-and-jews
END:VEVENT
END:VCALENDAR
