BEGIN:VCALENDAR
VERSION:2.0
PRODID:-//https://faithvictoria.org.au///NONSGML kigkonsult.se iCalcreator 2.10.15//
METHOD:PUBLISH
BEGIN:VEVENT
UID:20260424T211711UTC-5025Fv8O1J@https://faithvictoria.org.au/
DTSTAMP:20260424T211711Z
DESCRIPTION:Ballarat Interfaith Network invites you to:\nWalk &amp\; Talk i
 n the Wetland | World Interfaith Harmony Week\nDate: Saturday 8 February 2
 020&nbsp\; &nbsp\; &nbsp\; &nbsp\;Time: 10amLocation: Indigenous Sculpture
  Park\, Wendouree Parade VIC 3350\nJoin the people of different faiths and
  cultures as we meander through the gardens and learn about the creation o
 f the Lake Wendouree Wetlands.&nbsp\;\nThe concept of this event is for pe
 ople of different faiths or no particular faith at all toThe concept of th
 is event is for people of different faiths or no particular faith at all t
 ocome together in their mutual appreciation for the peace that can be felt
  when in harmony with nature.&nbsp\;This will be lead by a Welcome to Coun
 try given by local Wadawurrung\, Deanne Gilson\,This will be lead by a Wel
 come to Country given by local Wadawurrung\, Deanne Gilson\,followed by a 
 talk on the concept she had when creating her Indigenous sculpture that wa
 s installednear the wetlands at the lake early last year. Following Deanne
 ’s address\, Hedley Thompson\,community representative on the City of Ball
 arat planning committee for the creation of thewetlands\, will lead a walk
  through the area\, explaining the thinking behind the creation.At the con
 clusion\, all participants are invited to share in a relaxed picnic lunch.
 \nFeaturing talks by:&nbsp\;\n\nDeanne Gilson\, artist and creater of Indi
 genous sculpture\nHedley Thomson\n\nBring a picnic and rug to share a meal
  with friends at the conclusion of the event.&nbsp\;\nContact: Margaret | 
 mflellis@netconnect.com.au&nbsp\; https://faithvictoria.org.au/upcoming-ev
 ents/event/1666-world-interfaith-harmony-week-ballarat-interfaith-network
DTSTART:20200208T100000Z
DTEND:20200208T120000Z
LOCATION:Indigenous Sculpture Park\, Wendouree Parade VIC 3350 (North Garde
 ns\, Lake Wendouree VIC 3350\, Australia)
SUMMARY:World Interfaith Harmony Week: Ballarat Interfaith Network
URL:https://faithvictoria.org.au/upcoming-events/event/1666-world-interfait
 h-harmony-week-ballarat-interfaith-network
END:VEVENT
END:VCALENDAR
