BEGIN:VCALENDAR
VERSION:2.0
PRODID:-//https://faithvictoria.org.au///NONSGML kigkonsult.se iCalcreator 2.10.15//
METHOD:PUBLISH
BEGIN:VEVENT
UID:20260423T063919UTC-3503M6PL5W@https://faithvictoria.org.au/
DTSTAMP:20260423T063919Z
DESCRIPTION:The Interfaith Network of the City of Greater Dandenong invites
  you to:\nTaking Stock of What Life Is Missing: “The Conversational Nature
  of Reality”Interfaith Breakfast 2022 | UN World Interfaith Harmony Week\n
 Date: Saturday 4 Febraury 2023&nbsp\; &nbsp\; &nbsp\;Time: 7am to 9amLocat
 ion: Supper Room\, Springvale Town Hall\, 397-405 Springvale Road\, Spring
 vale\nGuest Speaker:&nbsp\;Nyadol Nyuen\nCost: $20 | Click here to registe
 r by 25 January 2023For flyer\, click here.&nbsp\;\nFor more information: 
 executive@interfaithnetwork.org.au&nbsp\; https://faithvictoria.org.au/upc
 oming-events/event/1926-interfaith-breakfast-2023-interfaith-network-city-
 of-greater-dandenong
DTSTART:20230204T070000Z
DTEND:20230204T090000Z
LOCATION:Supper Room\, Springvale Town Hall\, 397-405 Springvale Road\, Spr
 ingvale VIC 3171 (State Emergency Service\, 397-405 Springvale Rd\, Spring
 vale VIC 3171\, Australia)
SUMMARY:Interfaith Breakfast 2023: Interfaith Network City of Greater Dande
 nong
URL:https://faithvictoria.org.au/upcoming-events/event/1926-interfaith-brea
 kfast-2023-interfaith-network-city-of-greater-dandenong
END:VEVENT
BEGIN:VEVENT
UID:20260423T063919UTC-351388HxX7@https://faithvictoria.org.au/
DTSTAMP:20260423T063919Z
DESCRIPTION:Wyndham Interfaith Network invites you to:\nInterfaith Harmony 
 Week Breakfast\nDate: Saturday 4 February 2023&nbsp\; &nbsp\; &nbsp\;Time:
  8:30am to 10:30amLocation: The Views Bistro\, 350 K Road\, Werribee\nBook
 ings compulsory. Please email Erum Ali erumali2807@gmail.com&nbsp\;and cc 
 Laurence Gray laurenceg@wyndhamcec.org.au&nbsp\;\nCost will be covered by 
 participants individually.\nPlease bring a printed copy of prayer for peac
 e from your tradition to share that is linked to harmony. We will gather t
 hem up and photograph them together.&nbsp\; https://faithvictoria.org.au/u
 pcoming-events/event/2010-interfaith-harmony-week-breakfast-wyndham-interf
 aith-network
DTSTART:20230204T083000Z
DTEND:20230204T103000Z
LOCATION:The Views Bistro\, 350 K Road\, Werribee VIC 3030 (350 K Rd\, Werr
 ibee South VIC 3030\, Australia)
SUMMARY:Interfaith Harmony Week Breakfast: Wyndham Interfaith Network
URL:https://faithvictoria.org.au/upcoming-events/event/2010-interfaith-harm
 ony-week-breakfast-wyndham-interfaith-network
END:VEVENT
END:VCALENDAR
