BEGIN:VCALENDAR
VERSION:2.0
PRODID:-//https://faithvictoria.org.au///NONSGML kigkonsult.se iCalcreator 2.10.15//
METHOD:PUBLISH
BEGIN:VEVENT
UID:20260424T194648UTC-9051p8ZEL1@https://faithvictoria.org.au/
DTSTAMP:20260424T194648Z
DESCRIPTION:The University of Melbourne Chaplaincy and Religions for Peace 
 Victoria Branch invite you to:\n'Pope Francis: His Interfaith and Environm
 ental Perspectives&nbsp\;UN World Interfaith Harmony Week 2020\nDate: Tues
 day 4 February 2020&nbsp\; &nbsp\; Time: 5:30pm to 7:30pmLocation:&nbsp\;C
 arrillo Gantner Theatre\, B-02 (Basement)\, Sidney Myer Asia Centre\, Univ
 ersity of Melbourne\, 761 Swanston St\, Parkville VIC 3010\,\nWorld Interf
 aith Harmony Week: an annual event observed during the first week of Febru
 ary commencing in 2011. The week provides a platform—one week in a year—wh
 en all interfaith groups and other groups of goodwill can show the world w
 hat interfaith harmony\, co-operation and understanding may achieve.\nKeyn
 ote speaker: David Schutz\nMore about the speaker:&nbsp\;David Schütz has 
 been the Executive Officer of the Ecumenical and Interfaith Commission for
  the Catholic Archdiocese of Melbourne since 2002. He is also Sessional Tu
 tor at Australian Catholic University. David was a Lutheran pastor from 19
 92 to 2001 and was received into the Catholic Church in 2003. For many yea
 rs a member of the Victorian Council of Churches’ Faith and Order Commissi
 on (both as a Lutheran and a Catholic)\, David served as Chair of the Comm
 ission from 2012 to 2015. A foundation member of the Jewish Christian Musl
 im Association\, he served as Secretary of JCMA from 2009 to 2012. His the
 ological interests focus on ecumenism\, church history and liturgical theo
 logy. He is an adult faith educator for Anima Education\, a cantor in his 
 local parish and at the Cathedral.\nContact: Sue Ennis wcrpaust@iinet.net.
 au&nbsp\;For online bookings\, click here https://faithvictoria.org.au/upc
 oming-events/event/1661-un-world-interfaith-harmony-week-2020-religions-fo
 r-peace-victoria-branch
DTSTART:20200204T173000Z
DTEND:20200204T193000Z
LOCATION:Carrillo Gantner Theatre\, B-02 (Basement)\, Sidney Myer Asia Cent
 re\, University of Melbourne\, 761 Swanston St\, Parkville VIC 3010\, (761
  Swanston St\, Parkville VIC 3010\, Australia)
SUMMARY:UN World Interfaith Harmony Week 2020: Religions for Peace Victoria
  Branch
URL:https://faithvictoria.org.au/upcoming-events/event/1661-un-world-interf
 aith-harmony-week-2020-religions-for-peace-victoria-branch
END:VEVENT
BEGIN:VEVENT
UID:20260424T194648UTC-9070uoKfrD@https://faithvictoria.org.au/
DTSTAMP:20260424T194648Z
DESCRIPTION:Ballarat Interfaith Network invites you to:\nCivic Flag-raising
  | World Interfaith Harmony Week\nDate: Tuesday 4 February 2020&nbsp\; &nb
 sp\; &nbsp\;Time: 11amLocation:&nbsp\;Queen Victoria Square\, 225 Sturt St
 \, Ballarat Central VIC 3350\nBallarat Interfaith Network’s flag will be r
 aised in support ofBallarat Interfaith Network’s flag will be raised in su
 pport ofthe world-wide message and intent of this special week\nFeaturing:
 &nbsp\;\n\nPeter Lovett\nMayor Cr Ben Taylor\nBuddhist Keynote Speaker: Aj
 ahn Maha Chi\,&nbsp\;Buddhist Monk of the Ballarat Thai temple\, Wat Thai 
 Bhavana\nSebastopol Primary Choir&nbsp\;under the direction of Kellie Batt
 iston\n\nRefreshments provided\nContact: Margaret&nbsp\; mflellis@netconne
 ct.com.au&nbsp\; https://faithvictoria.org.au/upcoming-events/event/1667-w
 orld-interfaith-harmony-week-ballarat-interfaith-network
DTSTART:20200204T110000Z
DTEND:20200204T120000Z
LOCATION:Queen Victoria Square\, 225 Sturt St\, Ballarat Central VIC 3350 (
 225 Sturt St\, Ballarat Central VIC 3350\, Australia)
SUMMARY:World Interfaith Harmony Week: Ballarat Interfaith Network
URL:https://faithvictoria.org.au/upcoming-events/event/1667-world-interfait
 h-harmony-week-ballarat-interfaith-network
END:VEVENT
BEGIN:VEVENT
UID:20260424T194648UTC-9083ELBFxh@https://faithvictoria.org.au/
DTSTAMP:20260424T194648Z
DESCRIPTION:The Faith Communities Council of Victoria (FCCV) invites you to
 :\nMultifaith Gathering to acknowledge Victoria’s bushfire crisisDate: Tue
 sday 4 February 2020&nbsp\;&nbsp\;&nbsp\; Time: 11am-12pmLocation: Steps o
 f Parliament House - Spring Street East Melbourne Victoria 3002\nYou are i
 nvited to a multifaith gathering to acknowledge Victoria’s bushfire crisis
 .\nJoin Victoria’s faith and political leaders for a special multifaith ga
 thering on the steps of&nbsp\;Parliament House&nbsp\;on&nbsp\;Tuesday&nbsp
 \;4 February 2020.\nHosted by the Faith Communities Council of Victoria an
 d the Multifaith Advisory Group (convened by the Victorian Multicultural C
 ommission)\, the gathering will bring Victorians together to pray for thos
 e who have lost their lives and for the devastation of land\, property and
  wildlife caused by the recent bushfires.\nTogether\, we will show our app
 reciation and say thanks to the firefighters\, emergency services and volu
 nteers for their dedication\, bravery and service.\nWe will also demonstra
 te our support for leaders on all sides of politics as they continue to le
 ad our state through this unprecedented tragedy.\nWith the fire season not
  yet over&nbsp\;and with relief and recovery efforts expected to take mont
 hs\, if not years\, this event will demonstrate the strength of our commun
 ity and our support for each other.\nWe hope you can join us.\n'As faith c
 ommunity leaders\, we stand on the steps of parliament to pray for those w
 ho have lost their lives\, for the devastation of land\, property and wild
 life and equally important the severe emotional upheaval caused by the rec
 ent bushfires.&nbsp\; We especially like to acknowledge the ongoing servic
 es provided by the Victorian Council of Churches Emergencies Ministry whic
 h\, through their emergency chaplains\, continue to provide a multi-cultur
 al and multi-faith response to those severely affected in the bush fire re
 gions of Victoria.” - Reverend Albert (Bhakta Dasa) Lange\, Chairperson of
  the Faith Communities Council of Victoria. https://faithvictoria.org.au/u
 pcoming-events/event/1671-fccv-multifaith-gathering-to-acknowledge-victori
 a-s-bushfire-crisis
DTSTART:20200204T110000Z
DTEND:20200204T120000Z
LOCATION:Parliament House\, Spring Street Melbourne (Parliament House\, Spr
 ing Street Melbourne)
SUMMARY:FCCV: Multifaith Gathering to Acknowledge Victoria’s Bushfire Crisi
 s
URL:https://faithvictoria.org.au/upcoming-events/event/1671-fccv-multifaith
 -gathering-to-acknowledge-victoria-s-bushfire-crisis
END:VEVENT
END:VCALENDAR
