BEGIN:VCALENDAR
VERSION:2.0
PRODID:-//https://faithvictoria.org.au///NONSGML kigkonsult.se iCalcreator 2.10.15//
METHOD:PUBLISH
BEGIN:VEVENT
UID:20260424T180357UTC-6115vsujFM@https://faithvictoria.org.au/
DTSTAMP:20260424T180357Z
DESCRIPTION:The Wyndham Interfaith Network\,&nbsp\;City of Wyndham &amp\; W
 yndham Community and Education Centre invite you to:\n2020 World Interfait
 h Harmony Week Celebration - Reconciliation Walk\nDate: Saturday 1 Februar
 y 2020&nbsp\; &nbsp\; &nbsp\; &nbsp\;Time: 9:15am to 11amMeeting Place: Wy
 ndham Cultural Centre -&nbsp\; 177 Watton Street\, Werribee VIC 3030&nbsp\
 ;&nbsp\;\nThe Wyndham Interfaith Network will celebrate &nbsp\;religious&n
 bsp\; harmony week on Feb 1st&nbsp\;with a River Heritage&nbsp\; walk&nbsp
 \; hosted by the&nbsp\; Werribee river association&nbsp\;https://werribeer
 iver.org.au/.&nbsp\; In keeping with our commitment to reconciliation the 
 walk will highlight significance of the&nbsp\; river to first nations peop
 le. Meet&nbsp\; at 9:15 am Saturday Feb 1st at Wyndham Street Plaza diagon
 ally&nbsp\; opposite the&nbsp\; Wyndham cultural centre&nbsp\; 177 Watton 
 street.&nbsp\; Please bring\, sunscreen hats and water bottles or umbrella
 s if wet . The guided walk will start at 9:30 and &nbsp\;finish at the cor
 ner&nbsp\; of Watton and Station place at 11am . We will then have brunch 
 at&nbsp\; a location nearby to discuss the walk further. &nbsp\;Registrati
 ons essential. There is no cost for the walk but participants will cover t
 heir own brunch.\nContact: Laurence Gray |&nbsp\;laurenceg@wyndhamcec.org.
 au https://faithvictoria.org.au/upcoming-events/event/1670-world-interfait
 h-harmony-week-wyndham-interfaith-network
DTSTART:20200201T091500Z
DTEND:20200201T110000Z
LOCATION: Wyndham Cultural Centre\, 177 Watton Street Wyndham VIC 3030 (177
  Watton St\, Werribee VIC 3030\, Australia)
SUMMARY:World interfaith Harmony Week: Wyndham Interfaith Network
URL:https://faithvictoria.org.au/upcoming-events/event/1670-world-interfait
 h-harmony-week-wyndham-interfaith-network
END:VEVENT
END:VCALENDAR
