BEGIN:VCALENDAR
VERSION:2.0
PRODID:-//https://faithvictoria.org.au///NONSGML kigkonsult.se iCalcreator 2.10.15//
METHOD:PUBLISH
BEGIN:VEVENT
UID:20260424T214752UTC-1541uxto4X@https://faithvictoria.org.au/
DTSTAMP:20260424T214752Z
DESCRIPTION:Mahayana New YearFriday&nbsp\;29.1.2021 to Thursday 4.1.2018Rel
 igion: Buddhism (Mahayana)\nThe Buddhist New Year depends on the country o
 f origin or ethnic background of the people. In Mahayana countries the new
  year starts on the first full moon day in January. It is a time to reflec
 t on the past and cleanse oneself from the prior year's sins to make a fre
 sh start. https://faithvictoria.org.au/upcoming-events/event/1228-mahayana
 -new-year-buddhism
DTSTART;VALUE=DATE:20210129
LOCATION:RSEvents!Pro Location (Colorado\, USA)
SUMMARY:Mahayana New Year (Buddhism)
URL:https://faithvictoria.org.au/upcoming-events/event/1228-mahayana-new-ye
 ar-buddhism
END:VEVENT
END:VCALENDAR
