BEGIN:VCALENDAR
VERSION:2.0
PRODID:-//https://faithvictoria.org.au///NONSGML kigkonsult.se iCalcreator 2.10.15//
METHOD:PUBLISH
BEGIN:VEVENT
UID:20260421T053051UTC-0768e8b1Vv@https://faithvictoria.org.au/
DTSTAMP:20260421T053051Z
DESCRIPTION:PongalStarts on Wednesday 14 January 2026Ends on Saturday 17 Ja
 nuary 2026Religion: Hinduism\nPongal is a four-day harvest festival celebr
 ated by Tamil people in Southern India and Sri Lanka\, dedicated to the Hi
 ndu Sun God Surya\, thanking Surya for agricultural abundance. Also known 
 as Lohri in Northern India. https://faithvictoria.org.au/upcoming-events/e
 vent/2339-pongal-hinduism
DTSTART:20260114T000000Z
DTEND:20260117T171918Z
LOCATION:RSEvents!Pro Location (Colorado\, USA)
SUMMARY:Pongal | Hinduism
URL:https://faithvictoria.org.au/upcoming-events/event/2339-pongal-hinduism
END:VEVENT
BEGIN:VEVENT
UID:20260421T053051UTC-07741VbW86@https://faithvictoria.org.au/
DTSTAMP:20260421T053051Z
DESCRIPTION:Lailat al Miraj Friday 16 January 2026Faith: Islam\nLailat al M
 iraj is the observance of Prophet Muhammad’s Night Journey comprised of tw
 o parts: a physical journey from Mecca to Jerusalem (al Isra)\, and a spir
 itual journey\, his ascension to heaven (al Miraj) and return the same nig
 ht. https://faithvictoria.org.au/upcoming-events/event/2340-lailat-al-mira
 j-islam
DTSTART;VALUE=DATE:20260116
LOCATION:RSEvents!Pro Location (Colorado\, USA)
SUMMARY:Lailat al Miraj | Islam
URL:https://faithvictoria.org.au/upcoming-events/event/2340-lailat-al-miraj
 -islam
END:VEVENT
END:VCALENDAR
