BEGIN:VCALENDAR
VERSION:2.0
PRODID:-//https://faithvictoria.org.au///NONSGML kigkonsult.se iCalcreator 2.10.15//
METHOD:PUBLISH
BEGIN:VEVENT
UID:20260421T103046UTC-6026nOvAFH@https://faithvictoria.org.au/
DTSTAMP:20260421T103046Z
DESCRIPTION:MaghiTuesday 13 January 2026Faith: Sikhism\nMaghi commemorates 
 the sacrifice of forty Sikhs\, who sacrificed their lives defending an att
 ack by the imperial army in pursuit of Guru Gobind Singh\, in the Battle o
 f Muktsar in 1705. https://faithvictoria.org.au/upcoming-events/event/2338
 -maghi-sikhism
DTSTART;VALUE=DATE:20260113
LOCATION:RSEvents!Pro Location (Colorado\, USA)
SUMMARY:Maghi | Sikhism 	
URL:https://faithvictoria.org.au/upcoming-events/event/2338-maghi-sikhism
END:VEVENT
END:VCALENDAR
