BEGIN:VCALENDAR
VERSION:2.0
PRODID:-//https://faithvictoria.org.au///NONSGML kigkonsult.se iCalcreator 2.10.15//
METHOD:PUBLISH
BEGIN:VEVENT
UID:20260424T051722UTC-3960it1VHI@https://faithvictoria.org.au/
DTSTAMP:20260424T051722Z
DESCRIPTION:MaghiWednesday&nbsp\;13 January&nbsp\;2021Religion: Sikhism\nMa
 ghi commemorate the sacrifice of the Chali Mukte (the Forty Liberated Ones
 )\, who sacrificed their own lives defending an attack by the imperial arm
 y in pursuit of Guru Gobind Singh. This took place in Khidrane di Dhab\, o
 n 29 December 1705. https://faithvictoria.org.au/upcoming-events/event/123
 1-maghi-sikhism
DTSTART;VALUE=DATE:20210113
LOCATION:RSEvents!Pro Location (Colorado\, USA)
SUMMARY:Maghi (Sikhism)
URL:https://faithvictoria.org.au/upcoming-events/event/1231-maghi-sikhism
END:VEVENT
BEGIN:VEVENT
UID:20260424T051722UTC-3967imzKMf@https://faithvictoria.org.au/
DTSTAMP:20260424T051722Z
DESCRIPTION:Interfaith Network\, City of Greater Dandenong invites you to:
 \nSouth East Metro Interfaith Forum\nDate: Wednesday 13 January 2021&nbsp\
 ; &nbsp\; &nbsp\; Time: 7pmLocation: Online webinar\nThe Victorian Multicu
 ltural Commission [VMC] are hosting\, together with the Department of Heal
 th &amp\; Human Services [DHHS] a forum about supporting our faith and spi
 ritual communities in the South East Region to inform and prevent any pote
 ntial community Corona Virus outbreaks\, .\nAll faith and spiritual leader
 s are strongly encouraged to invite one of their leadership team (Chair/Pr
 esident/Board Member/Youth Leader/Elder etc.\, ) to join with you and be a
  part of this conversation.\nAgenda:\n\nUpdate from Casey and Dandenong Co
 uncils - quick update following work undertaken during the outbreaks\nDr N
 aveen Tenneti\, DHHS Senior Medical Outbreak Lead\, Public Health Division
  - Naveen will reinforce public health advice and its importance in contai
 ning the spread of infection. Isolation and quarantine as a public health 
 measure.\nKarenina Fromhold - DHHS Head of Community Engagement will facil
 itate the discussion - community insights\, questions\, etc.\n\nJoin Zoom 
 Meeting:&nbsp\;https://zoom.us/j/93777474522?pwd=cUdJY2w3TDdrZkhuNXhhUXNQU
 E1RZz09&nbsp\;\nMeeting ID: 937 7747 4522 |&nbsp\;Passcode: 444361 https:/
 /faithvictoria.org.au/upcoming-events/event/1749-south-east-metro-interfai
 th-forum-interfaith-network-city-of-greater-dandenong
DTSTART:20210113T190000Z
DTEND:20210113T200000Z
LOCATION:Melbourne VIC 3000 (Melbourne VIC\, Australia)
SUMMARY:South East Metro Interfaith Forum: Interfaith Network\, City of Gre
 ater Dandenong
URL:https://faithvictoria.org.au/upcoming-events/event/1749-south-east-metr
 o-interfaith-forum-interfaith-network-city-of-greater-dandenong
END:VEVENT
END:VCALENDAR
