BEGIN:VCALENDAR
VERSION:2.0
PRODID:-//https://faithvictoria.org.au///NONSGML kigkonsult.se iCalcreator 2.10.15//
METHOD:PUBLISH
BEGIN:VEVENT
UID:20260421T194200UTC-92710MSkrF@https://faithvictoria.org.au/
DTSTAMP:20260421T194200Z
DESCRIPTION:NativityWednesday 7 January 2026Faith: Orthodox Christianity  
 \nNativity is the Orthodox celebration of the birth of Jesus Christ\, cons
 idered by Christians to be the Son of God. Celebrated by Orthodox churches
  that follow the Julian calendar. https://faithvictoria.org.au/upcoming-ev
 ents/event/2337-nativity-orthodox-christianity
DTSTART;VALUE=DATE:20260107
LOCATION:RSEvents!Pro Location (Colorado\, USA)
SUMMARY:Nativity | Orthodox Christianity 
URL:https://faithvictoria.org.au/upcoming-events/event/2337-nativity-orthod
 ox-christianity
END:VEVENT
END:VCALENDAR
