BEGIN:VCALENDAR
VERSION:2.0
PRODID:-//https://faithvictoria.org.au///NONSGML kigkonsult.se iCalcreator 2.10.15//
METHOD:PUBLISH
BEGIN:VEVENT
UID:20260421T212249UTC-1699wWLaUo@https://faithvictoria.org.au/
DTSTAMP:20260421T212249Z
DESCRIPTION:Epiphany Tuesday 6 January 2026Faith: Christianity\nEpiphany co
 mmemorates the manifestation of God in human form as Jesus Christ\, and th
 e visit of the three wise men to the infant Jesus. Celebrated 12 days afte
 r Christmas. https://faithvictoria.org.au/upcoming-events/event/2336-epiph
 any-christianity
DTSTART;VALUE=DATE:20260106
LOCATION:RSEvents!Pro Location (Colorado\, USA)
SUMMARY:Epiphany	| Christianity
URL:https://faithvictoria.org.au/upcoming-events/event/2336-epiphany-christ
 ianity
END:VEVENT
END:VCALENDAR
