BEGIN:VCALENDAR
VERSION:2.0
PRODID:-//https://faithvictoria.org.au///NONSGML kigkonsult.se iCalcreator 2.10.15//
METHOD:PUBLISH
BEGIN:VEVENT
UID:20260421T230501UTC-0847hCsV4h@https://faithvictoria.org.au/
DTSTAMP:20260421T230501Z
DESCRIPTION:Birthday of Guru Gobind Singh (10th Guru) Monday 5 January 2026
 Faith: Sikhism\nCommemorates the birth of Guru Gobind Singh (1666-1708)\, 
 the tenth and final Sikh Guru\, who created the collective body of baptise
 d Sikhs (Khalsa) and declared the Sikh Scriptures (Guru Granth Sahib) to b
 e the Sikh's Guru from that time on. https://faithvictoria.org.au/upcoming
 -events/event/2335-birthday-of-guru-gobind-singh-ji-sikhism
DTSTART;VALUE=DATE:20260105
LOCATION:RSEvents!Pro Location (Colorado\, USA)
SUMMARY:Birthday of Guru Gobind Singh Ji | Sikhism
URL:https://faithvictoria.org.au/upcoming-events/event/2335-birthday-of-gur
 u-gobind-singh-ji-sikhism
END:VEVENT
END:VCALENDAR
