BEGIN:VCALENDAR
VERSION:2.0
PRODID:-//https://faithvictoria.org.au///NONSGML kigkonsult.se iCalcreator 2.10.15//
METHOD:PUBLISH
BEGIN:VEVENT
UID:20260422T022239UTC-8240AuIuFV@https://faithvictoria.org.au/
DTSTAMP:20260422T022239Z
DESCRIPTION:Mahayana New YearBegins on: Saturday 3 January 2026Buddhism  \n
 Mahayana New Year starts on the first full moon day in January. Celebrated
  in Mahayana&nbsp\; countries like China\, Korea\, Japan\, Taiwan and Viet
 nam. A time to reflect on the past and to make a fresh start. https://fait
 hvictoria.org.au/upcoming-events/event/2334-mahayana-new-year-buddhism
DTSTART;VALUE=DATE:20260103
LOCATION:RSEvents!Pro Location (Colorado\, USA)
SUMMARY:Mahayana New Year | Buddhism 	
URL:https://faithvictoria.org.au/upcoming-events/event/2334-mahayana-new-ye
 ar-buddhism
END:VEVENT
END:VCALENDAR
