BEGIN:VCALENDAR
VERSION:2.0
PRODID:-//https://faithvictoria.org.au///NONSGML kigkonsult.se iCalcreator 2.10.15//
METHOD:PUBLISH
BEGIN:VEVENT
UID:20260424T220125UTC-56377vUfH0@https://faithvictoria.org.au/
DTSTAMP:20260424T220125Z
DESCRIPTION:Boddhi DayTuesday 8 December 2026Religion: Buddhism\nBodhi Day 
 commemorates the day the Buddha\, Siddhartha Gautama\, reached enlightenme
 nt under the Bodhi tree around 596 BCE. Also celebrated on lunar date whic
 h can fall in January. https://faithvictoria.org.au/component/rseventspro/
 event/2416-bodhi-day-buddhism?Itemid=174
DTSTART;VALUE=DATE:20261208
LOCATION:RSEvents!Pro Location (Colorado\, USA)
SUMMARY:Bodhi Day (Buddhism)
URL:https://faithvictoria.org.au/component/rseventspro/event/2416-bodhi-day
 -buddhism?Itemid=174
END:VEVENT
END:VCALENDAR
