BEGIN:VCALENDAR
VERSION:2.0
PRODID:-//https://faithvictoria.org.au///NONSGML kigkonsult.se iCalcreator 2.10.15//
METHOD:PUBLISH
BEGIN:VEVENT
UID:20260424T220125UTC-7525Wspvmv@https://faithvictoria.org.au/
DTSTAMP:20260424T220125Z
DESCRIPTION:HanukkahBegins: Saturday 5 December 2026Ends:&nbsp\;Saturday 12
  December 2026Religion: Judaism\nHanukkah is an eight-day festival commemo
 rating the recapture and rededication of the Temple in Jerusalem over occu
 pying forces in 165 BCE. Also known as the Feast of Lights. https://faithv
 ictoria.org.au/component/rseventspro/event/2415-hanukkah-judaism?Itemid=17
 4
DTSTART:20261205T174842Z
DTEND:20261212T174842Z
LOCATION:RSEvents!Pro Location (Colorado\, USA)
SUMMARY:Hanukkah | Judaism
URL:https://faithvictoria.org.au/component/rseventspro/event/2415-hanukkah-
 judaism?Itemid=174
END:VEVENT
END:VCALENDAR
