BEGIN:VCALENDAR
VERSION:2.0
PRODID:-//https://faithvictoria.org.au///NONSGML kigkonsult.se iCalcreator 2.10.15//
METHOD:PUBLISH
BEGIN:VEVENT
UID:20260425T031235UTC-94901wOIUS@https://faithvictoria.org.au/
DTSTAMP:20260425T031235Z
DESCRIPTION:HanukkahBegins: Monday 8 December 2023Ends:&nbsp\;Monday 15 Dec
 ember 2023Religion: Judaism\nHanukkah (Chanukah)\, also known as the Feast
  of Lights\, is an eight day festival commemorating the recapture and rede
 dication of the Temple in Jerusalem over occupying forces in 165 BCE. http
 s://faithvictoria.org.au/component/rseventspro/event/2006-hanukkah-judaism
 ?Itemid=174
DTSTART;VALUE=DATE:20231208
LOCATION:RSEvents!Pro Location (Colorado\, USA)
SUMMARY:Hanukkah | Judaism
URL:https://faithvictoria.org.au/component/rseventspro/event/2006-hanukkah-
 judaism?Itemid=174
END:VEVENT
END:VCALENDAR
