BEGIN:VCALENDAR
VERSION:2.0
PRODID:-//https://faithvictoria.org.au///NONSGML kigkonsult.se iCalcreator 2.10.15//
METHOD:PUBLISH
BEGIN:VEVENT
UID:20260424T204424UTC-4534Ow3apt@https://faithvictoria.org.au/
DTSTAMP:20260424T204424Z
DESCRIPTION:United Nations Interfaith Harmony Week&nbsp\;Starts on: 1 Febru
 ary 2021Ends on: 7 February 2021\nFor more information:&nbsp\;http://world
 interfaithharmonyweek.com/ https://faithvictoria.org.au/component/rsevents
 pro/event/1318-united-nations-interfaith-harmony-week?Itemid=174
DTSTART:20210201T000000Z
DTEND:20210207T213302Z
LOCATION:RSEvents!Pro Location (Colorado\, USA)
SUMMARY:United Nations Interfaith Harmony Week
URL:https://faithvictoria.org.au/component/rseventspro/event/1318-united-na
 tions-interfaith-harmony-week?Itemid=174
END:VEVENT
END:VCALENDAR
