BEGIN:VCALENDAR
VERSION:2.0
PRODID:-//https://faithvictoria.org.au///NONSGML kigkonsult.se iCalcreator 2.10.15//
METHOD:PUBLISH
BEGIN:VEVENT
UID:20260424T152822UTC-7691lpIUwe@https://faithvictoria.org.au/
DTSTAMP:20260424T152822Z
DESCRIPTION:Declaration of the BabSunday&nbsp\;23 May 2021Religion: Baha'i
 \nThe Baha’i commemorates when the Bab\, the herald of the Baha’i Faith\, 
 announced in Shiraz\, Persia (now Iran)\, that he was the herald of a new 
 messenger of God. https://faithvictoria.org.au/upcoming-events/event/1266-
 declaration-of-the-bab-bahai
DTSTART;VALUE=DATE:20210523
LOCATION:RSEvents!Pro Location (Colorado\, USA)
SUMMARY:Declaration of the Bab (Baha'i)
URL:https://faithvictoria.org.au/upcoming-events/event/1266-declaration-of-
 the-bab-bahai
END:VEVENT
END:VCALENDAR
