BEGIN:VCALENDAR
VERSION:2.0
PRODID:-//https://faithvictoria.org.au///NONSGML kigkonsult.se iCalcreator 2.10.15//
METHOD:PUBLISH
BEGIN:VEVENT
UID:20260424T171317UTC-6971ZvwPv9@https://faithvictoria.org.au/
DTSTAMP:20260424T171317Z
DESCRIPTION:PesachStarts:&nbsp\;Sunday&nbsp\;28.3.2021Ends:&nbsp\;Sunday 4 
 April 2021Religion: Judaism\nAn eight day festival for families and commun
 ities to remember the time when Hebrew slaves were led by Moses out of Egy
 pt to freedom. The festival begins with the Seder meal during which time t
 he story of their deliverance is told. The first and last two days are hol
 idays. https://faithvictoria.org.au/upcoming-events/event/1251-pesach-juda
 ism
DTSTART;VALUE=DATE:20210328
LOCATION:RSEvents!Pro Location (Colorado\, USA)
SUMMARY:Pesach (Judaism)
URL:https://faithvictoria.org.au/upcoming-events/event/1251-pesach-judaism
END:VEVENT
END:VCALENDAR
