BEGIN:VCALENDAR
VERSION:2.0
PRODID:-//https://faithvictoria.org.au///NONSGML kigkonsult.se iCalcreator 2.10.15//
METHOD:PUBLISH
BEGIN:VEVENT
UID:20260424T152824UTC-8380LTNEpF@https://faithvictoria.org.au/
DTSTAMP:20260424T152824Z
DESCRIPTION:Good/Holy FridayFriday 2.4.2021Religion: Christianity\nCommemor
 ation of the suffering and crucifixion of Jesus Christ . https://faithvict
 oria.org.au/upcoming-events/event/1249-good-holy-friday-christianity
DTSTART;VALUE=DATE:20210402
LOCATION:RSEvents!Pro Location (Colorado\, USA)
SUMMARY:Good/Holy Friday (Christianity)
URL:https://faithvictoria.org.au/upcoming-events/event/1249-good-holy-frida
 y-christianity
END:VEVENT
END:VCALENDAR
