BEGIN:VCALENDAR
VERSION:2.0
PRODID:-//https://faithvictoria.org.au///NONSGML kigkonsult.se iCalcreator 2.10.15//
METHOD:PUBLISH
BEGIN:VEVENT
UID:20260424T153920UTC-4825vc6lui@https://faithvictoria.org.au/
DTSTAMP:20260424T153920Z
DESCRIPTION:Chinese New YearFriday 12.2.2021Religion: Buddhism\nChinese New
  Year (also called the Lunar New Year and the Spring Festival) is the most
  important holiday in China and for Chinese people around the world. Celeb
 rated by Buddhist\, Confucian\, and Taoist practitioners. https://faithvic
 toria.org.au/upcoming-events/event/1236-chinese-new-year-buddhism
DTSTART;VALUE=DATE:20210212
LOCATION:RSEvents!Pro Location (Colorado\, USA)
SUMMARY:Chinese New Year  (Buddhism)
URL:https://faithvictoria.org.au/upcoming-events/event/1236-chinese-new-yea
 r-buddhism
END:VEVENT
END:VCALENDAR
