BEGIN:VCALENDAR
VERSION:2.0
PRODID:-//https://faithvictoria.org.au///NONSGML kigkonsult.se iCalcreator 2.10.15//
METHOD:PUBLISH
BEGIN:VEVENT
UID:20260424T171911UTC-3237PPz88U@https://faithvictoria.org.au/
DTSTAMP:20260424T171911Z
DESCRIPTION:Magha Puja Day / Sangha DaySaturday 27.2.2021Religion: Buddhism
 \nCelebration of the presentation of teachings by the Buddha to a spontane
 ous gathering of 1250 arahants (holy men). Also known as ‘Great Assembly D
 ay’ or ‘Sangha Day’. https://faithvictoria.org.au/upcoming-events/event/12
 50-magha-puja-day-sangha-day-buddhism
DTSTART;VALUE=DATE:20210227
LOCATION:RSEvents!Pro Location (Colorado\, USA)
SUMMARY:Magha Puja Day / Sangha Day (Buddhism)
URL:https://faithvictoria.org.au/upcoming-events/event/1250-magha-puja-day-
 sangha-day-buddhism
END:VEVENT
BEGIN:VEVENT
UID:20260424T171911UTC-3243Eo9GvA@https://faithvictoria.org.au/
DTSTAMP:20260424T171911Z
DESCRIPTION:Ballarat Interfaith Network invites you to:\nFamily History Day
  -&nbsp\;Church of Jesus Christ of Latter-day Saints | World Interfaith Ha
 rmony Week\nDate: Thursday 4 February 2021&nbsp\; &nbsp\; Time: 1pmLocatio
 n:&nbsp\;Church of Jesus Christ of Latter-day Saints\,&nbsp\;1 Grammar Str
 eet\, Wendouree&nbsp\;\nThis will include an explanation of how to use Fam
 ily Search\, and why LDS Christians link research to their temples. https:
 //faithvictoria.org.au/upcoming-events/event/1754-family-history-day-balla
 rat-interfaith-network
DTSTART:20210204T130000Z
DTEND:20210304T150000Z
LOCATION:Church of Jesus Christ of Latter-day Saints\, 1 Grammar Street\, W
 endouree VIC 3355 (1 Grammar St\, Wendouree VIC 3355\, Australia)
SUMMARY:Family History Day: Ballarat Interfaith Network
URL:https://faithvictoria.org.au/upcoming-events/event/1754-family-history-
 day-ballarat-interfaith-network
END:VEVENT
BEGIN:VEVENT
UID:20260424T171911UTC-3249xGd6tE@https://faithvictoria.org.au/
DTSTAMP:20260424T171911Z
DESCRIPTION:The Spiritual Assembly of the Baha'is of Monash invites you to:
 \nCentenary of the Baha'i Faith in Australia 1920-2020\nDate: Saturday 17 
 February 2021&nbsp\; &nbsp\; &nbsp\;Time: 7:30pmLocation: Online via Zoom&
 nbsp\;\nDue to recent changes in COVID-19 restrictions\, the in-person eve
 nt has been cancelled. Please join us for a virtual live stream via zoom. 
 https://faithvictoria.org.au/upcoming-events/event/1769-centenary-of-the-b
 ahai-faith-in-australia-1920-2020-the-spiritual-assembly-of-the-bahais-of-
 monash
DTSTART:20210227T193030Z
DTEND:20210227T210000Z
LOCATION:Melbourne VIC 3000 (Melbourne VIC\, Australia)
SUMMARY:Centenary of the Baha'i Faith in Australia 1920-2020: The Spiritual
  Assembly of the Baha'is of Monash
URL:https://faithvictoria.org.au/upcoming-events/event/1769-centenary-of-th
 e-bahai-faith-in-australia-1920-2020-the-spiritual-assembly-of-the-bahais-
 of-monash
END:VEVENT
END:VCALENDAR
