BEGIN:VCALENDAR
VERSION:2.0
PRODID:-//https://faithvictoria.org.au///NONSGML kigkonsult.se iCalcreator 2.10.15//
METHOD:PUBLISH
BEGIN:VEVENT
UID:20260424T173120UTC-3082AJgAJ2@https://faithvictoria.org.au/
DTSTAMP:20260424T173120Z
DESCRIPTION:LentStarts on Wednesday 17.2.2021Ends on Thursday 1.4.2021Relig
 ion: Christianity\nLent is the period of 40 days (not including Sundays) w
 hich comes before Easter\, traditionally a time of fasting and reflection.
  The 40 days represent the time Jesus spent in the desert overcoming tempt
 ation by Satan. In Western Christianity\, it beings on Ash Wednesday and e
 nd on Maundy Thursday. https://faithvictoria.org.au/upcoming-events/event/
 1233-lent-begins-on-ash-wednesday-christianity
DTSTART;VALUE=DATE:20210217
LOCATION:RSEvents!Pro Location (Colorado\, USA)
SUMMARY:Lent begins on Ash Wednesday (Christianity)
URL:https://faithvictoria.org.au/upcoming-events/event/1233-lent-begins-on-
 ash-wednesday-christianity
END:VEVENT
BEGIN:VEVENT
UID:20260424T173120UTC-3089wt8JUK@https://faithvictoria.org.au/
DTSTAMP:20260424T173120Z
DESCRIPTION:Ballarat Interfaith Network invites you to:\nFamily History Day
  -&nbsp\;Church of Jesus Christ of Latter-day Saints | World Interfaith Ha
 rmony Week\nDate: Thursday 4 February 2021&nbsp\; &nbsp\; Time: 1pmLocatio
 n:&nbsp\;Church of Jesus Christ of Latter-day Saints\,&nbsp\;1 Grammar Str
 eet\, Wendouree&nbsp\;\nThis will include an explanation of how to use Fam
 ily Search\, and why LDS Christians link research to their temples. https:
 //faithvictoria.org.au/upcoming-events/event/1754-family-history-day-balla
 rat-interfaith-network
DTSTART:20210204T130000Z
DTEND:20210304T150000Z
LOCATION:Church of Jesus Christ of Latter-day Saints\, 1 Grammar Street\, W
 endouree VIC 3355 (1 Grammar St\, Wendouree VIC 3355\, Australia)
SUMMARY:Family History Day: Ballarat Interfaith Network
URL:https://faithvictoria.org.au/upcoming-events/event/1754-family-history-
 day-ballarat-interfaith-network
END:VEVENT
END:VCALENDAR
