BEGIN:VCALENDAR
VERSION:2.0
PRODID:-//https://faithvictoria.org.au///NONSGML kigkonsult.se iCalcreator 2.10.15//
METHOD:PUBLISH
BEGIN:VEVENT
UID:20260424T191643UTC-7244uGkou7@https://faithvictoria.org.au/
DTSTAMP:20260424T191643Z
DESCRIPTION:United Nations Interfaith Harmony Week&nbsp\;Starts on: 1 Febru
 ary 2021Ends on: 7 February 2021\nFor more information:&nbsp\;http://world
 interfaithharmonyweek.com/ https://faithvictoria.org.au/upcoming-events/ev
 ent/1318-united-nations-interfaith-harmony-week
DTSTART:20210201T000000Z
DTEND:20210207T213302Z
LOCATION:RSEvents!Pro Location (Colorado\, USA)
SUMMARY:United Nations Interfaith Harmony Week
URL:https://faithvictoria.org.au/upcoming-events/event/1318-united-nations-
 interfaith-harmony-week
END:VEVENT
BEGIN:VEVENT
UID:20260424T191643UTC-72530hUNrT@https://faithvictoria.org.au/
DTSTAMP:20260424T191643Z
DESCRIPTION:Ballarat Interfaith Network invites you to:\nCivic Flag-raising
  Event | World Interfaith Harmony Week 2021\nDate: Monday 1 February 2021&
 nbsp\; &nbsp\; &nbsp\; Time: 11amLocation:&nbsp\;St Peter's Anglican Churc
 h\, 1307 Sturt Street\, Ballarat&nbsp\;\n\nFeaturing:&nbsp\;Address by Jul
 iana Addison MP\nKeynote Speaker: Bishop Gary Weatherill\nIncluding:&nbsp\
 ;Tour of St Peter's Church\n\nFollowed by refreshments.\nRegistration of y
 our attendance is required due to current Covid restrictions.\nContact: Ma
 rgaret mflellis@netconnect.com.au&nbsp\; https://faithvictoria.org.au/upco
 ming-events/event/1752-civic-flag-raising-event-ballarat-interfaith-networ
 k
DTSTART:20210201T110000Z
DTEND:20210201T120000Z
LOCATION:St Peter's Anglican Church\, 1307 Sturt Street\, Ballarat VIC 3350
  (1307 Sturt St\, Ballarat Central VIC 3350\, Australia)
SUMMARY:Civic Flag-Raising Event: Ballarat Interfaith Network
URL:https://faithvictoria.org.au/upcoming-events/event/1752-civic-flag-rais
 ing-event-ballarat-interfaith-network
END:VEVENT
BEGIN:VEVENT
UID:20260424T191643UTC-7264Pt4xvw@https://faithvictoria.org.au/
DTSTAMP:20260424T191643Z
DESCRIPTION:Parliament of the World's Religions\, in collaboration with Cap
 e Town Interfaith Initiative invites you to:\nKeeping the Faiths in challe
 nging times\nDate: Monday 1 February 2021&nbsp\; &nbsp\; Time: 6pm to 8pm 
 (Melbourne local time)Location: Online with Facebook live\nWorld Interfait
 h Harmony Week first prize winners (from Nigeria\, Philippines\, Gambia\, 
 Canada\, Australia\, South Africa and Jordan) describe the impact of winni
 ng the King Abdullah II prize\, and how their interfaith work has changed 
 in the context of the pandemic.\nCost: Free | For flyer\, click here.&nbsp
 \; https://faithvictoria.org.au/upcoming-events/event/1761-keeping-the-fai
 ths-in-challenging-times-parliament-of-world-religions
DTSTART:20210201T180000Z
DTEND:20210201T200000Z
LOCATION:Melbourne VIC 3000 (Melbourne VIC\, Australia)
SUMMARY:Keeping the Faiths in challenging times: Parliament of World Religi
 ons
URL:https://faithvictoria.org.au/upcoming-events/event/1761-keeping-the-fai
 ths-in-challenging-times-parliament-of-world-religions
END:VEVENT
END:VCALENDAR
