BEGIN:VCALENDAR
VERSION:2.0
PRODID:-//https://faithvictoria.org.au///NONSGML kigkonsult.se iCalcreator 2.10.15//
METHOD:PUBLISH
BEGIN:VEVENT
UID:20260424T171451UTC-12838ukipL@https://faithvictoria.org.au/
DTSTAMP:20260424T171451Z
DESCRIPTION:HijraTuesday&nbsp\;10&nbsp\;August&nbsp\;2021Religion: Islam\nT
 he Islamic year is marked by the event known as Hijra which occurred in 62
 2 CE\, when the Prophet Muhammad’s migrated from Mecca to Medina\, where t
 he first Islamic community was established. https://faithvictoria.org.au/c
 omponent/rseventspro/event/1279-hijra-islam?Itemid=174
DTSTART;VALUE=DATE:20210810
LOCATION:RSEvents!Pro Location (Colorado\, USA)
SUMMARY:Hijra (Islam)
URL:https://faithvictoria.org.au/component/rseventspro/event/1279-hijra-isl
 am?Itemid=174
END:VEVENT
END:VCALENDAR
